BEGIN:VCALENDAR
VERSION:2.0
PRODID:-//InJipsingboertange - ECPv6.15.20//NONSGML v1.0//EN
CALSCALE:GREGORIAN
METHOD:PUBLISH
X-ORIGINAL-URL:https://www.injipsingboertange.nl
X-WR-CALDESC:Evenementen voor InJipsingboertange
REFRESH-INTERVAL;VALUE=DURATION:PT1H
X-Robots-Tag:noindex
X-PUBLISHED-TTL:PT1H
BEGIN:VTIMEZONE
TZID:Europe/Amsterdam
BEGIN:DAYLIGHT
TZOFFSETFROM:+0100
TZOFFSETTO:+0200
TZNAME:CEST
DTSTART:20250330T010000
END:DAYLIGHT
BEGIN:STANDARD
TZOFFSETFROM:+0200
TZOFFSETTO:+0100
TZNAME:CET
DTSTART:20251026T010000
END:STANDARD
BEGIN:DAYLIGHT
TZOFFSETFROM:+0100
TZOFFSETTO:+0200
TZNAME:CEST
DTSTART:20260329T010000
END:DAYLIGHT
BEGIN:STANDARD
TZOFFSETFROM:+0200
TZOFFSETTO:+0100
TZNAME:CET
DTSTART:20261025T010000
END:STANDARD
BEGIN:DAYLIGHT
TZOFFSETFROM:+0100
TZOFFSETTO:+0200
TZNAME:CEST
DTSTART:20270328T010000
END:DAYLIGHT
BEGIN:STANDARD
TZOFFSETFROM:+0200
TZOFFSETTO:+0100
TZNAME:CET
DTSTART:20271031T010000
END:STANDARD
END:VTIMEZONE
BEGIN:VEVENT
DTSTART;TZID=Europe/Amsterdam:20261008T133000
DTEND;TZID=Europe/Amsterdam:20261008T160000
DTSTAMP:20260424T004716
CREATED:20260103T112032Z
LAST-MODIFIED:20260103T134644Z
UID:2804-1791466200-1791475200@www.injipsingboertange.nl
SUMMARY:Ouderensoos
DESCRIPTION:Locatie: Boer en Burger Bar De Iembarg\nTijd: elke donderdagmiddag van 13.30 tot 16.00 uur \nDe ouderensoos is een gezellige middag voor ontmoeting en samenzijn. Onder het genot van een drankje is er volop gelegenheid voor een praatje en gezelligheid. Nieuwe bezoekers zijn van harte welkom.
URL:https://www.injipsingboertange.nl/evenement/ouderensoos-45/
CATEGORIES:Ouderensoos
END:VEVENT
BEGIN:VEVENT
DTSTART;TZID=Europe/Amsterdam:20261012T090000
DTEND;TZID=Europe/Amsterdam:20261012T103000
DTSTAMP:20260424T004716
CREATED:20260108T092559Z
LAST-MODIFIED:20260108T093517Z
UID:3207-1791795600-1791801000@www.injipsingboertange.nl
SUMMARY:Wandelclub
DESCRIPTION:Startlocatie: Kantine JVV\nTijden:\nMaandagochtend om 09.00 uur\nWoensdagavond om 19.30 uur \nDe wandelclub maakt samen wandelingen in de omgeving. Iedereen die graag in beweging is en het leuk vindt om samen te wandelen\, is welkom om mee te doen.\nAanmelden: bij Patricia via 06-52547794.
URL:https://www.injipsingboertange.nl/evenement/wandelclub-41/
CATEGORIES:Wandelclub
END:VEVENT
BEGIN:VEVENT
DTSTART;TZID=Europe/Amsterdam:20261014T193000
DTEND;TZID=Europe/Amsterdam:20261014T210000
DTSTAMP:20260424T004716
CREATED:20260108T092817Z
LAST-MODIFIED:20260108T093429Z
UID:3259-1792006200-1792011600@www.injipsingboertange.nl
SUMMARY:Wandelclub
DESCRIPTION:Startlocatie: Kantine JVV\nTijden:\nMaandagochtend om 09.00 uur\nWoensdagavond om 19.30 uur \nDe wandelclub maakt samen wandelingen in de omgeving. Iedereen die graag in beweging is en het leuk vindt om samen te wandelen\, is welkom om mee te doen.\nAanmelden: bij Patricia via 06-52547794.
URL:https://www.injipsingboertange.nl/evenement/wandelclub-93/
CATEGORIES:Wandelclub
END:VEVENT
BEGIN:VEVENT
DTSTART;TZID=Europe/Amsterdam:20261015T133000
DTEND;TZID=Europe/Amsterdam:20261015T160000
DTSTAMP:20260424T004716
CREATED:20260103T112032Z
LAST-MODIFIED:20260103T134644Z
UID:2805-1792071000-1792080000@www.injipsingboertange.nl
SUMMARY:Ouderensoos
DESCRIPTION:Locatie: Boer en Burger Bar De Iembarg\nTijd: elke donderdagmiddag van 13.30 tot 16.00 uur \nDe ouderensoos is een gezellige middag voor ontmoeting en samenzijn. Onder het genot van een drankje is er volop gelegenheid voor een praatje en gezelligheid. Nieuwe bezoekers zijn van harte welkom.
URL:https://www.injipsingboertange.nl/evenement/ouderensoos-46/
CATEGORIES:Ouderensoos
END:VEVENT
BEGIN:VEVENT
DTSTART;TZID=Europe/Amsterdam:20261019T090000
DTEND;TZID=Europe/Amsterdam:20261019T103000
DTSTAMP:20260424T004716
CREATED:20260108T092559Z
LAST-MODIFIED:20260108T093517Z
UID:3208-1792400400-1792405800@www.injipsingboertange.nl
SUMMARY:Wandelclub
DESCRIPTION:Startlocatie: Kantine JVV\nTijden:\nMaandagochtend om 09.00 uur\nWoensdagavond om 19.30 uur \nDe wandelclub maakt samen wandelingen in de omgeving. Iedereen die graag in beweging is en het leuk vindt om samen te wandelen\, is welkom om mee te doen.\nAanmelden: bij Patricia via 06-52547794.
URL:https://www.injipsingboertange.nl/evenement/wandelclub-42/
CATEGORIES:Wandelclub
END:VEVENT
BEGIN:VEVENT
DTSTART;TZID=Europe/Amsterdam:20261021T193000
DTEND;TZID=Europe/Amsterdam:20261021T210000
DTSTAMP:20260424T004716
CREATED:20260108T092817Z
LAST-MODIFIED:20260108T093429Z
UID:3260-1792611000-1792616400@www.injipsingboertange.nl
SUMMARY:Wandelclub
DESCRIPTION:Startlocatie: Kantine JVV\nTijden:\nMaandagochtend om 09.00 uur\nWoensdagavond om 19.30 uur \nDe wandelclub maakt samen wandelingen in de omgeving. Iedereen die graag in beweging is en het leuk vindt om samen te wandelen\, is welkom om mee te doen.\nAanmelden: bij Patricia via 06-52547794.
URL:https://www.injipsingboertange.nl/evenement/wandelclub-94/
CATEGORIES:Wandelclub
END:VEVENT
BEGIN:VEVENT
DTSTART;TZID=Europe/Amsterdam:20261022T133000
DTEND;TZID=Europe/Amsterdam:20261022T160000
DTSTAMP:20260424T004716
CREATED:20260103T112047Z
LAST-MODIFIED:20260103T134644Z
UID:2806-1792675800-1792684800@www.injipsingboertange.nl
SUMMARY:Ouderensoos
DESCRIPTION:Locatie: Boer en Burger Bar De Iembarg\nTijd: elke donderdagmiddag van 13.30 tot 16.00 uur \nDe ouderensoos is een gezellige middag voor ontmoeting en samenzijn. Onder het genot van een drankje is er volop gelegenheid voor een praatje en gezelligheid. Nieuwe bezoekers zijn van harte welkom.
URL:https://www.injipsingboertange.nl/evenement/ouderensoos-47/
CATEGORIES:Ouderensoos
END:VEVENT
BEGIN:VEVENT
DTSTART;TZID=Europe/Amsterdam:20261026T090000
DTEND;TZID=Europe/Amsterdam:20261026T103000
DTSTAMP:20260424T004716
CREATED:20260108T092613Z
LAST-MODIFIED:20260108T093517Z
UID:3209-1793005200-1793010600@www.injipsingboertange.nl
SUMMARY:Wandelclub
DESCRIPTION:Startlocatie: Kantine JVV\nTijden:\nMaandagochtend om 09.00 uur\nWoensdagavond om 19.30 uur \nDe wandelclub maakt samen wandelingen in de omgeving. Iedereen die graag in beweging is en het leuk vindt om samen te wandelen\, is welkom om mee te doen.\nAanmelden: bij Patricia via 06-52547794.
URL:https://www.injipsingboertange.nl/evenement/wandelclub-43/
CATEGORIES:Wandelclub
END:VEVENT
BEGIN:VEVENT
DTSTART;TZID=Europe/Amsterdam:20261028T193000
DTEND;TZID=Europe/Amsterdam:20261028T210000
DTSTAMP:20260424T004716
CREATED:20260108T092817Z
LAST-MODIFIED:20260108T093429Z
UID:3261-1793215800-1793221200@www.injipsingboertange.nl
SUMMARY:Wandelclub
DESCRIPTION:Startlocatie: Kantine JVV\nTijden:\nMaandagochtend om 09.00 uur\nWoensdagavond om 19.30 uur \nDe wandelclub maakt samen wandelingen in de omgeving. Iedereen die graag in beweging is en het leuk vindt om samen te wandelen\, is welkom om mee te doen.\nAanmelden: bij Patricia via 06-52547794.
URL:https://www.injipsingboertange.nl/evenement/wandelclub-95/
CATEGORIES:Wandelclub
END:VEVENT
BEGIN:VEVENT
DTSTART;TZID=Europe/Amsterdam:20261029T133000
DTEND;TZID=Europe/Amsterdam:20261029T160000
DTSTAMP:20260424T004716
CREATED:20260103T112047Z
LAST-MODIFIED:20260103T134644Z
UID:2807-1793280600-1793289600@www.injipsingboertange.nl
SUMMARY:Ouderensoos
DESCRIPTION:Locatie: Boer en Burger Bar De Iembarg\nTijd: elke donderdagmiddag van 13.30 tot 16.00 uur \nDe ouderensoos is een gezellige middag voor ontmoeting en samenzijn. Onder het genot van een drankje is er volop gelegenheid voor een praatje en gezelligheid. Nieuwe bezoekers zijn van harte welkom.
URL:https://www.injipsingboertange.nl/evenement/ouderensoos-48/
CATEGORIES:Ouderensoos
END:VEVENT
BEGIN:VEVENT
DTSTART;TZID=Europe/Amsterdam:20261102T090000
DTEND;TZID=Europe/Amsterdam:20261102T103000
DTSTAMP:20260424T004716
CREATED:20260108T092613Z
LAST-MODIFIED:20260108T093517Z
UID:3210-1793610000-1793615400@www.injipsingboertange.nl
SUMMARY:Wandelclub
DESCRIPTION:Startlocatie: Kantine JVV\nTijden:\nMaandagochtend om 09.00 uur\nWoensdagavond om 19.30 uur \nDe wandelclub maakt samen wandelingen in de omgeving. Iedereen die graag in beweging is en het leuk vindt om samen te wandelen\, is welkom om mee te doen.\nAanmelden: bij Patricia via 06-52547794.
URL:https://www.injipsingboertange.nl/evenement/wandelclub-44/
CATEGORIES:Wandelclub
END:VEVENT
BEGIN:VEVENT
DTSTART;TZID=Europe/Amsterdam:20261104T193000
DTEND;TZID=Europe/Amsterdam:20261104T210000
DTSTAMP:20260424T004716
CREATED:20260108T092817Z
LAST-MODIFIED:20260108T093429Z
UID:3262-1793820600-1793826000@www.injipsingboertange.nl
SUMMARY:Wandelclub
DESCRIPTION:Startlocatie: Kantine JVV\nTijden:\nMaandagochtend om 09.00 uur\nWoensdagavond om 19.30 uur \nDe wandelclub maakt samen wandelingen in de omgeving. Iedereen die graag in beweging is en het leuk vindt om samen te wandelen\, is welkom om mee te doen.\nAanmelden: bij Patricia via 06-52547794.
URL:https://www.injipsingboertange.nl/evenement/wandelclub-96/
CATEGORIES:Wandelclub
END:VEVENT
BEGIN:VEVENT
DTSTART;TZID=Europe/Amsterdam:20261105T133000
DTEND;TZID=Europe/Amsterdam:20261105T160000
DTSTAMP:20260424T004716
CREATED:20260103T112047Z
LAST-MODIFIED:20260103T134644Z
UID:2808-1793885400-1793894400@www.injipsingboertange.nl
SUMMARY:Ouderensoos
DESCRIPTION:Locatie: Boer en Burger Bar De Iembarg\nTijd: elke donderdagmiddag van 13.30 tot 16.00 uur \nDe ouderensoos is een gezellige middag voor ontmoeting en samenzijn. Onder het genot van een drankje is er volop gelegenheid voor een praatje en gezelligheid. Nieuwe bezoekers zijn van harte welkom.
URL:https://www.injipsingboertange.nl/evenement/ouderensoos-49/
CATEGORIES:Ouderensoos
END:VEVENT
BEGIN:VEVENT
DTSTART;TZID=Europe/Amsterdam:20261109T090000
DTEND;TZID=Europe/Amsterdam:20261109T103000
DTSTAMP:20260424T004716
CREATED:20260108T092614Z
LAST-MODIFIED:20260108T093459Z
UID:3211-1794214800-1794220200@www.injipsingboertange.nl
SUMMARY:Wandelclub
DESCRIPTION:Startlocatie: Kantine JVV\nTijden:\nMaandagochtend om 09.00 uur\nWoensdagavond om 19.30 uur \nDe wandelclub maakt samen wandelingen in de omgeving. Iedereen die graag in beweging is en het leuk vindt om samen te wandelen\, is welkom om mee te doen.\nAanmelden: bij Patricia via 06-52547794.
URL:https://www.injipsingboertange.nl/evenement/wandelclub-45/
CATEGORIES:Wandelclub
END:VEVENT
BEGIN:VEVENT
DTSTART;TZID=Europe/Amsterdam:20261111T193000
DTEND;TZID=Europe/Amsterdam:20261111T210000
DTSTAMP:20260424T004716
CREATED:20260108T092817Z
LAST-MODIFIED:20260108T093429Z
UID:3263-1794425400-1794430800@www.injipsingboertange.nl
SUMMARY:Wandelclub
DESCRIPTION:Startlocatie: Kantine JVV\nTijden:\nMaandagochtend om 09.00 uur\nWoensdagavond om 19.30 uur \nDe wandelclub maakt samen wandelingen in de omgeving. Iedereen die graag in beweging is en het leuk vindt om samen te wandelen\, is welkom om mee te doen.\nAanmelden: bij Patricia via 06-52547794.
URL:https://www.injipsingboertange.nl/evenement/wandelclub-97/
CATEGORIES:Wandelclub
END:VEVENT
BEGIN:VEVENT
DTSTART;TZID=Europe/Amsterdam:20261112T133000
DTEND;TZID=Europe/Amsterdam:20261112T160000
DTSTAMP:20260424T004716
CREATED:20260103T112047Z
LAST-MODIFIED:20260103T134644Z
UID:2809-1794490200-1794499200@www.injipsingboertange.nl
SUMMARY:Ouderensoos
DESCRIPTION:Locatie: Boer en Burger Bar De Iembarg\nTijd: elke donderdagmiddag van 13.30 tot 16.00 uur \nDe ouderensoos is een gezellige middag voor ontmoeting en samenzijn. Onder het genot van een drankje is er volop gelegenheid voor een praatje en gezelligheid. Nieuwe bezoekers zijn van harte welkom.
URL:https://www.injipsingboertange.nl/evenement/ouderensoos-50/
CATEGORIES:Ouderensoos
END:VEVENT
BEGIN:VEVENT
DTSTART;TZID=Europe/Amsterdam:20261116T090000
DTEND;TZID=Europe/Amsterdam:20261116T103000
DTSTAMP:20260424T004716
CREATED:20260108T092614Z
LAST-MODIFIED:20260108T093459Z
UID:3212-1794819600-1794825000@www.injipsingboertange.nl
SUMMARY:Wandelclub
DESCRIPTION:Startlocatie: Kantine JVV\nTijden:\nMaandagochtend om 09.00 uur\nWoensdagavond om 19.30 uur \nDe wandelclub maakt samen wandelingen in de omgeving. Iedereen die graag in beweging is en het leuk vindt om samen te wandelen\, is welkom om mee te doen.\nAanmelden: bij Patricia via 06-52547794.
URL:https://www.injipsingboertange.nl/evenement/wandelclub-46/
CATEGORIES:Wandelclub
END:VEVENT
BEGIN:VEVENT
DTSTART;TZID=Europe/Amsterdam:20261118T193000
DTEND;TZID=Europe/Amsterdam:20261118T210000
DTSTAMP:20260424T004716
CREATED:20260108T092833Z
LAST-MODIFIED:20260108T093429Z
UID:3264-1795030200-1795035600@www.injipsingboertange.nl
SUMMARY:Wandelclub
DESCRIPTION:Startlocatie: Kantine JVV\nTijden:\nMaandagochtend om 09.00 uur\nWoensdagavond om 19.30 uur \nDe wandelclub maakt samen wandelingen in de omgeving. Iedereen die graag in beweging is en het leuk vindt om samen te wandelen\, is welkom om mee te doen.\nAanmelden: bij Patricia via 06-52547794.
URL:https://www.injipsingboertange.nl/evenement/wandelclub-98/
CATEGORIES:Wandelclub
END:VEVENT
BEGIN:VEVENT
DTSTART;TZID=Europe/Amsterdam:20261119T133000
DTEND;TZID=Europe/Amsterdam:20261119T160000
DTSTAMP:20260424T004716
CREATED:20260103T112047Z
LAST-MODIFIED:20260103T134644Z
UID:2810-1795095000-1795104000@www.injipsingboertange.nl
SUMMARY:Ouderensoos
DESCRIPTION:Locatie: Boer en Burger Bar De Iembarg\nTijd: elke donderdagmiddag van 13.30 tot 16.00 uur \nDe ouderensoos is een gezellige middag voor ontmoeting en samenzijn. Onder het genot van een drankje is er volop gelegenheid voor een praatje en gezelligheid. Nieuwe bezoekers zijn van harte welkom.
URL:https://www.injipsingboertange.nl/evenement/ouderensoos-51/
CATEGORIES:Ouderensoos
END:VEVENT
BEGIN:VEVENT
DTSTART;TZID=Europe/Amsterdam:20261123T090000
DTEND;TZID=Europe/Amsterdam:20261123T103000
DTSTAMP:20260424T004716
CREATED:20260108T092614Z
LAST-MODIFIED:20260108T093459Z
UID:3213-1795424400-1795429800@www.injipsingboertange.nl
SUMMARY:Wandelclub
DESCRIPTION:Startlocatie: Kantine JVV\nTijden:\nMaandagochtend om 09.00 uur\nWoensdagavond om 19.30 uur \nDe wandelclub maakt samen wandelingen in de omgeving. Iedereen die graag in beweging is en het leuk vindt om samen te wandelen\, is welkom om mee te doen.\nAanmelden: bij Patricia via 06-52547794.
URL:https://www.injipsingboertange.nl/evenement/wandelclub-47/
CATEGORIES:Wandelclub
END:VEVENT
BEGIN:VEVENT
DTSTART;TZID=Europe/Amsterdam:20261125T193000
DTEND;TZID=Europe/Amsterdam:20261125T210000
DTSTAMP:20260424T004716
CREATED:20260108T092833Z
LAST-MODIFIED:20260108T093429Z
UID:3265-1795635000-1795640400@www.injipsingboertange.nl
SUMMARY:Wandelclub
DESCRIPTION:Startlocatie: Kantine JVV\nTijden:\nMaandagochtend om 09.00 uur\nWoensdagavond om 19.30 uur \nDe wandelclub maakt samen wandelingen in de omgeving. Iedereen die graag in beweging is en het leuk vindt om samen te wandelen\, is welkom om mee te doen.\nAanmelden: bij Patricia via 06-52547794.
URL:https://www.injipsingboertange.nl/evenement/wandelclub-99/
CATEGORIES:Wandelclub
END:VEVENT
BEGIN:VEVENT
DTSTART;TZID=Europe/Amsterdam:20261126T133000
DTEND;TZID=Europe/Amsterdam:20261126T160000
DTSTAMP:20260424T004716
CREATED:20260103T112102Z
LAST-MODIFIED:20260103T134644Z
UID:2811-1795699800-1795708800@www.injipsingboertange.nl
SUMMARY:Ouderensoos
DESCRIPTION:Locatie: Boer en Burger Bar De Iembarg\nTijd: elke donderdagmiddag van 13.30 tot 16.00 uur \nDe ouderensoos is een gezellige middag voor ontmoeting en samenzijn. Onder het genot van een drankje is er volop gelegenheid voor een praatje en gezelligheid. Nieuwe bezoekers zijn van harte welkom.
URL:https://www.injipsingboertange.nl/evenement/ouderensoos-52/
CATEGORIES:Ouderensoos
END:VEVENT
BEGIN:VEVENT
DTSTART;TZID=Europe/Amsterdam:20261130T090000
DTEND;TZID=Europe/Amsterdam:20261130T103000
DTSTAMP:20260424T004716
CREATED:20260108T092628Z
LAST-MODIFIED:20260108T093459Z
UID:3214-1796029200-1796034600@www.injipsingboertange.nl
SUMMARY:Wandelclub
DESCRIPTION:Startlocatie: Kantine JVV\nTijden:\nMaandagochtend om 09.00 uur\nWoensdagavond om 19.30 uur \nDe wandelclub maakt samen wandelingen in de omgeving. Iedereen die graag in beweging is en het leuk vindt om samen te wandelen\, is welkom om mee te doen.\nAanmelden: bij Patricia via 06-52547794.
URL:https://www.injipsingboertange.nl/evenement/wandelclub-48/
CATEGORIES:Wandelclub
END:VEVENT
BEGIN:VEVENT
DTSTART;TZID=Europe/Amsterdam:20261202T193000
DTEND;TZID=Europe/Amsterdam:20261202T210000
DTSTAMP:20260424T004716
CREATED:20260108T092833Z
LAST-MODIFIED:20260108T093429Z
UID:3266-1796239800-1796245200@www.injipsingboertange.nl
SUMMARY:Wandelclub
DESCRIPTION:Startlocatie: Kantine JVV\nTijden:\nMaandagochtend om 09.00 uur\nWoensdagavond om 19.30 uur \nDe wandelclub maakt samen wandelingen in de omgeving. Iedereen die graag in beweging is en het leuk vindt om samen te wandelen\, is welkom om mee te doen.\nAanmelden: bij Patricia via 06-52547794.
URL:https://www.injipsingboertange.nl/evenement/wandelclub-100/
CATEGORIES:Wandelclub
END:VEVENT
BEGIN:VEVENT
DTSTART;TZID=Europe/Amsterdam:20261203T133000
DTEND;TZID=Europe/Amsterdam:20261203T160000
DTSTAMP:20260424T004716
CREATED:20260103T112102Z
LAST-MODIFIED:20260103T134645Z
UID:2812-1796304600-1796313600@www.injipsingboertange.nl
SUMMARY:Ouderensoos
DESCRIPTION:Locatie: Boer en Burger Bar De Iembarg\nTijd: elke donderdagmiddag van 13.30 tot 16.00 uur \nDe ouderensoos is een gezellige middag voor ontmoeting en samenzijn. Onder het genot van een drankje is er volop gelegenheid voor een praatje en gezelligheid. Nieuwe bezoekers zijn van harte welkom.
URL:https://www.injipsingboertange.nl/evenement/ouderensoos-53/
CATEGORIES:Ouderensoos
END:VEVENT
BEGIN:VEVENT
DTSTART;TZID=Europe/Amsterdam:20261207T090000
DTEND;TZID=Europe/Amsterdam:20261207T103000
DTSTAMP:20260424T004716
CREATED:20260108T092629Z
LAST-MODIFIED:20260108T093459Z
UID:3215-1796634000-1796639400@www.injipsingboertange.nl
SUMMARY:Wandelclub
DESCRIPTION:Startlocatie: Kantine JVV\nTijden:\nMaandagochtend om 09.00 uur\nWoensdagavond om 19.30 uur \nDe wandelclub maakt samen wandelingen in de omgeving. Iedereen die graag in beweging is en het leuk vindt om samen te wandelen\, is welkom om mee te doen.\nAanmelden: bij Patricia via 06-52547794.
URL:https://www.injipsingboertange.nl/evenement/wandelclub-49/
CATEGORIES:Wandelclub
END:VEVENT
BEGIN:VEVENT
DTSTART;TZID=Europe/Amsterdam:20261209T193000
DTEND;TZID=Europe/Amsterdam:20261209T210000
DTSTAMP:20260424T004716
CREATED:20260108T092833Z
LAST-MODIFIED:20260108T093429Z
UID:3267-1796844600-1796850000@www.injipsingboertange.nl
SUMMARY:Wandelclub
DESCRIPTION:Startlocatie: Kantine JVV\nTijden:\nMaandagochtend om 09.00 uur\nWoensdagavond om 19.30 uur \nDe wandelclub maakt samen wandelingen in de omgeving. Iedereen die graag in beweging is en het leuk vindt om samen te wandelen\, is welkom om mee te doen.\nAanmelden: bij Patricia via 06-52547794.
URL:https://www.injipsingboertange.nl/evenement/wandelclub-101/
CATEGORIES:Wandelclub
END:VEVENT
BEGIN:VEVENT
DTSTART;TZID=Europe/Amsterdam:20261210T133000
DTEND;TZID=Europe/Amsterdam:20261210T160000
DTSTAMP:20260424T004716
CREATED:20260103T112102Z
LAST-MODIFIED:20260103T134645Z
UID:2813-1796909400-1796918400@www.injipsingboertange.nl
SUMMARY:Ouderensoos
DESCRIPTION:Locatie: Boer en Burger Bar De Iembarg\nTijd: elke donderdagmiddag van 13.30 tot 16.00 uur \nDe ouderensoos is een gezellige middag voor ontmoeting en samenzijn. Onder het genot van een drankje is er volop gelegenheid voor een praatje en gezelligheid. Nieuwe bezoekers zijn van harte welkom.
URL:https://www.injipsingboertange.nl/evenement/ouderensoos-54/
CATEGORIES:Ouderensoos
END:VEVENT
BEGIN:VEVENT
DTSTART;TZID=Europe/Amsterdam:20261214T090000
DTEND;TZID=Europe/Amsterdam:20261214T103000
DTSTAMP:20260424T004716
CREATED:20260108T092629Z
LAST-MODIFIED:20260108T093459Z
UID:3216-1797238800-1797244200@www.injipsingboertange.nl
SUMMARY:Wandelclub
DESCRIPTION:Startlocatie: Kantine JVV\nTijden:\nMaandagochtend om 09.00 uur\nWoensdagavond om 19.30 uur \nDe wandelclub maakt samen wandelingen in de omgeving. Iedereen die graag in beweging is en het leuk vindt om samen te wandelen\, is welkom om mee te doen.\nAanmelden: bij Patricia via 06-52547794.
URL:https://www.injipsingboertange.nl/evenement/wandelclub-50/
CATEGORIES:Wandelclub
END:VEVENT
BEGIN:VEVENT
DTSTART;TZID=Europe/Amsterdam:20261216T193000
DTEND;TZID=Europe/Amsterdam:20261216T210000
DTSTAMP:20260424T004716
CREATED:20260108T092834Z
LAST-MODIFIED:20260108T093429Z
UID:3268-1797449400-1797454800@www.injipsingboertange.nl
SUMMARY:Wandelclub
DESCRIPTION:Startlocatie: Kantine JVV\nTijden:\nMaandagochtend om 09.00 uur\nWoensdagavond om 19.30 uur \nDe wandelclub maakt samen wandelingen in de omgeving. Iedereen die graag in beweging is en het leuk vindt om samen te wandelen\, is welkom om mee te doen.\nAanmelden: bij Patricia via 06-52547794.
URL:https://www.injipsingboertange.nl/evenement/wandelclub-102/
CATEGORIES:Wandelclub
END:VEVENT
END:VCALENDAR