BEGIN:VCALENDAR
VERSION:2.0
PRODID:-//InJipsingboertange - ECPv6.15.20//NONSGML v1.0//EN
CALSCALE:GREGORIAN
METHOD:PUBLISH
X-WR-CALNAME:InJipsingboertange
X-ORIGINAL-URL:https://www.injipsingboertange.nl
X-WR-CALDESC:Evenementen voor InJipsingboertange
REFRESH-INTERVAL;VALUE=DURATION:PT1H
X-Robots-Tag:noindex
X-PUBLISHED-TTL:PT1H
BEGIN:VTIMEZONE
TZID:Europe/Amsterdam
BEGIN:DAYLIGHT
TZOFFSETFROM:+0100
TZOFFSETTO:+0200
TZNAME:CEST
DTSTART:20250330T010000
END:DAYLIGHT
BEGIN:STANDARD
TZOFFSETFROM:+0200
TZOFFSETTO:+0100
TZNAME:CET
DTSTART:20251026T010000
END:STANDARD
BEGIN:DAYLIGHT
TZOFFSETFROM:+0100
TZOFFSETTO:+0200
TZNAME:CEST
DTSTART:20260329T010000
END:DAYLIGHT
BEGIN:STANDARD
TZOFFSETFROM:+0200
TZOFFSETTO:+0100
TZNAME:CET
DTSTART:20261025T010000
END:STANDARD
BEGIN:DAYLIGHT
TZOFFSETFROM:+0100
TZOFFSETTO:+0200
TZNAME:CEST
DTSTART:20270328T010000
END:DAYLIGHT
BEGIN:STANDARD
TZOFFSETFROM:+0200
TZOFFSETTO:+0100
TZNAME:CET
DTSTART:20271031T010000
END:STANDARD
END:VTIMEZONE
BEGIN:VEVENT
DTSTART;TZID=Europe/Amsterdam:20260708T193000
DTEND;TZID=Europe/Amsterdam:20260708T210000
DTSTAMP:20260423T212916
CREATED:20260108T092741Z
LAST-MODIFIED:20260108T093443Z
UID:3245-1783539000-1783544400@www.injipsingboertange.nl
SUMMARY:Wandelclub
DESCRIPTION:Startlocatie: Kantine JVV\nTijden:\nMaandagochtend om 09.00 uur\nWoensdagavond om 19.30 uur \nDe wandelclub maakt samen wandelingen in de omgeving. Iedereen die graag in beweging is en het leuk vindt om samen te wandelen\, is welkom om mee te doen.\nAanmelden: bij Patricia via 06-52547794.
URL:https://www.injipsingboertange.nl/evenement/wandelclub-79/
CATEGORIES:Wandelclub
END:VEVENT
BEGIN:VEVENT
DTSTART;TZID=Europe/Amsterdam:20260709T133000
DTEND;TZID=Europe/Amsterdam:20260709T160000
DTSTAMP:20260423T212916
CREATED:20260103T112002Z
LAST-MODIFIED:20260103T134654Z
UID:2791-1783603800-1783612800@www.injipsingboertange.nl
SUMMARY:Ouderensoos
DESCRIPTION:Locatie: Boer en Burger Bar De Iembarg\nTijd: elke donderdagmiddag van 13.30 tot 16.00 uur \nDe ouderensoos is een gezellige middag voor ontmoeting en samenzijn. Onder het genot van een drankje is er volop gelegenheid voor een praatje en gezelligheid. Nieuwe bezoekers zijn van harte welkom.
URL:https://www.injipsingboertange.nl/evenement/ouderensoos-32/
CATEGORIES:Ouderensoos
END:VEVENT
BEGIN:VEVENT
DTSTART;TZID=Europe/Amsterdam:20260713T090000
DTEND;TZID=Europe/Amsterdam:20260713T103000
DTSTAMP:20260423T212916
CREATED:20260108T092541Z
LAST-MODIFIED:20260108T093518Z
UID:3194-1783933200-1783938600@www.injipsingboertange.nl
SUMMARY:Wandelclub
DESCRIPTION:Startlocatie: Kantine JVV\nTijden:\nMaandagochtend om 09.00 uur\nWoensdagavond om 19.30 uur \nDe wandelclub maakt samen wandelingen in de omgeving. Iedereen die graag in beweging is en het leuk vindt om samen te wandelen\, is welkom om mee te doen.\nAanmelden: bij Patricia via 06-52547794.
URL:https://www.injipsingboertange.nl/evenement/wandelclub-28/
CATEGORIES:Wandelclub
END:VEVENT
BEGIN:VEVENT
DTSTART;TZID=Europe/Amsterdam:20260713T170000
DTEND;TZID=Europe/Amsterdam:20260713T200000
DTSTAMP:20260423T212916
CREATED:20260103T111424Z
LAST-MODIFIED:20260103T134818Z
UID:2694-1783962000-1783972800@www.injipsingboertange.nl
SUMMARY:Eetclub
DESCRIPTION:Locatie: Voetbalkantine\nInloop: vanaf 17.00 uur\nDiner: vanaf 17.30 uur \nDe eetclub is bedoeld voor mensen die het leuk vinden om samen te eten en nieuwe contacten te leggen. In een gezellige en ongedwongen sfeer wordt er gezamenlijk gedineerd\, met volop ruimte voor gesprek en ontmoeting. Zowel vaste deelnemers als nieuwe gasten zijn van harte welkom. \nNieuwe gasten kunnen zich aanmelden bij Agnes Wortelboer. Aanmelden kan telefonisch via 0599-326799 of per e-mail via janwortelboer@hetnet.nl
URL:https://www.injipsingboertange.nl/evenement/eetclub-14/
CATEGORIES:Eetclub
END:VEVENT
BEGIN:VEVENT
DTSTART;TZID=Europe/Amsterdam:20260715T193000
DTEND;TZID=Europe/Amsterdam:20260715T210000
DTSTAMP:20260423T212916
CREATED:20260108T092741Z
LAST-MODIFIED:20260108T093443Z
UID:3246-1784143800-1784149200@www.injipsingboertange.nl
SUMMARY:Wandelclub
DESCRIPTION:Startlocatie: Kantine JVV\nTijden:\nMaandagochtend om 09.00 uur\nWoensdagavond om 19.30 uur \nDe wandelclub maakt samen wandelingen in de omgeving. Iedereen die graag in beweging is en het leuk vindt om samen te wandelen\, is welkom om mee te doen.\nAanmelden: bij Patricia via 06-52547794.
URL:https://www.injipsingboertange.nl/evenement/wandelclub-80/
CATEGORIES:Wandelclub
END:VEVENT
BEGIN:VEVENT
DTSTART;TZID=Europe/Amsterdam:20260716T133000
DTEND;TZID=Europe/Amsterdam:20260716T160000
DTSTAMP:20260423T212916
CREATED:20260103T112002Z
LAST-MODIFIED:20260103T134654Z
UID:2792-1784208600-1784217600@www.injipsingboertange.nl
SUMMARY:Ouderensoos
DESCRIPTION:Locatie: Boer en Burger Bar De Iembarg\nTijd: elke donderdagmiddag van 13.30 tot 16.00 uur \nDe ouderensoos is een gezellige middag voor ontmoeting en samenzijn. Onder het genot van een drankje is er volop gelegenheid voor een praatje en gezelligheid. Nieuwe bezoekers zijn van harte welkom.
URL:https://www.injipsingboertange.nl/evenement/ouderensoos-33/
CATEGORIES:Ouderensoos
END:VEVENT
BEGIN:VEVENT
DTSTART;TZID=Europe/Amsterdam:20260720T090000
DTEND;TZID=Europe/Amsterdam:20260720T103000
DTSTAMP:20260423T212916
CREATED:20260108T092541Z
LAST-MODIFIED:20260108T093518Z
UID:3195-1784538000-1784543400@www.injipsingboertange.nl
SUMMARY:Wandelclub
DESCRIPTION:Startlocatie: Kantine JVV\nTijden:\nMaandagochtend om 09.00 uur\nWoensdagavond om 19.30 uur \nDe wandelclub maakt samen wandelingen in de omgeving. Iedereen die graag in beweging is en het leuk vindt om samen te wandelen\, is welkom om mee te doen.\nAanmelden: bij Patricia via 06-52547794.
URL:https://www.injipsingboertange.nl/evenement/wandelclub-29/
CATEGORIES:Wandelclub
END:VEVENT
BEGIN:VEVENT
DTSTART;TZID=Europe/Amsterdam:20260722T193000
DTEND;TZID=Europe/Amsterdam:20260722T210000
DTSTAMP:20260423T212916
CREATED:20260108T092741Z
LAST-MODIFIED:20260108T093443Z
UID:3247-1784748600-1784754000@www.injipsingboertange.nl
SUMMARY:Wandelclub
DESCRIPTION:Startlocatie: Kantine JVV\nTijden:\nMaandagochtend om 09.00 uur\nWoensdagavond om 19.30 uur \nDe wandelclub maakt samen wandelingen in de omgeving. Iedereen die graag in beweging is en het leuk vindt om samen te wandelen\, is welkom om mee te doen.\nAanmelden: bij Patricia via 06-52547794.
URL:https://www.injipsingboertange.nl/evenement/wandelclub-81/
CATEGORIES:Wandelclub
END:VEVENT
BEGIN:VEVENT
DTSTART;TZID=Europe/Amsterdam:20260723T133000
DTEND;TZID=Europe/Amsterdam:20260723T160000
DTSTAMP:20260423T212916
CREATED:20260103T112002Z
LAST-MODIFIED:20260103T134654Z
UID:2793-1784813400-1784822400@www.injipsingboertange.nl
SUMMARY:Ouderensoos
DESCRIPTION:Locatie: Boer en Burger Bar De Iembarg\nTijd: elke donderdagmiddag van 13.30 tot 16.00 uur \nDe ouderensoos is een gezellige middag voor ontmoeting en samenzijn. Onder het genot van een drankje is er volop gelegenheid voor een praatje en gezelligheid. Nieuwe bezoekers zijn van harte welkom.
URL:https://www.injipsingboertange.nl/evenement/ouderensoos-34/
CATEGORIES:Ouderensoos
END:VEVENT
BEGIN:VEVENT
DTSTART;TZID=Europe/Amsterdam:20260727T090000
DTEND;TZID=Europe/Amsterdam:20260727T103000
DTSTAMP:20260423T212916
CREATED:20260108T092541Z
LAST-MODIFIED:20260108T093518Z
UID:3196-1785142800-1785148200@www.injipsingboertange.nl
SUMMARY:Wandelclub
DESCRIPTION:Startlocatie: Kantine JVV\nTijden:\nMaandagochtend om 09.00 uur\nWoensdagavond om 19.30 uur \nDe wandelclub maakt samen wandelingen in de omgeving. Iedereen die graag in beweging is en het leuk vindt om samen te wandelen\, is welkom om mee te doen.\nAanmelden: bij Patricia via 06-52547794.
URL:https://www.injipsingboertange.nl/evenement/wandelclub-30/
CATEGORIES:Wandelclub
END:VEVENT
BEGIN:VEVENT
DTSTART;TZID=Europe/Amsterdam:20260729T193000
DTEND;TZID=Europe/Amsterdam:20260729T210000
DTSTAMP:20260423T212916
CREATED:20260108T092741Z
LAST-MODIFIED:20260108T093443Z
UID:3248-1785353400-1785358800@www.injipsingboertange.nl
SUMMARY:Wandelclub
DESCRIPTION:Startlocatie: Kantine JVV\nTijden:\nMaandagochtend om 09.00 uur\nWoensdagavond om 19.30 uur \nDe wandelclub maakt samen wandelingen in de omgeving. Iedereen die graag in beweging is en het leuk vindt om samen te wandelen\, is welkom om mee te doen.\nAanmelden: bij Patricia via 06-52547794.
URL:https://www.injipsingboertange.nl/evenement/wandelclub-82/
CATEGORIES:Wandelclub
END:VEVENT
BEGIN:VEVENT
DTSTART;TZID=Europe/Amsterdam:20260730T133000
DTEND;TZID=Europe/Amsterdam:20260730T160000
DTSTAMP:20260423T212916
CREATED:20260103T112002Z
LAST-MODIFIED:20260103T134654Z
UID:2794-1785418200-1785427200@www.injipsingboertange.nl
SUMMARY:Ouderensoos
DESCRIPTION:Locatie: Boer en Burger Bar De Iembarg\nTijd: elke donderdagmiddag van 13.30 tot 16.00 uur \nDe ouderensoos is een gezellige middag voor ontmoeting en samenzijn. Onder het genot van een drankje is er volop gelegenheid voor een praatje en gezelligheid. Nieuwe bezoekers zijn van harte welkom.
URL:https://www.injipsingboertange.nl/evenement/ouderensoos-35/
CATEGORIES:Ouderensoos
END:VEVENT
BEGIN:VEVENT
DTSTART;TZID=Europe/Amsterdam:20260803T090000
DTEND;TZID=Europe/Amsterdam:20260803T103000
DTSTAMP:20260423T212916
CREATED:20260108T092541Z
LAST-MODIFIED:20260108T093518Z
UID:3197-1785747600-1785753000@www.injipsingboertange.nl
SUMMARY:Wandelclub
DESCRIPTION:Startlocatie: Kantine JVV\nTijden:\nMaandagochtend om 09.00 uur\nWoensdagavond om 19.30 uur \nDe wandelclub maakt samen wandelingen in de omgeving. Iedereen die graag in beweging is en het leuk vindt om samen te wandelen\, is welkom om mee te doen.\nAanmelden: bij Patricia via 06-52547794.
URL:https://www.injipsingboertange.nl/evenement/wandelclub-31/
CATEGORIES:Wandelclub
END:VEVENT
BEGIN:VEVENT
DTSTART;TZID=Europe/Amsterdam:20260805T193000
DTEND;TZID=Europe/Amsterdam:20260805T210000
DTSTAMP:20260423T212916
CREATED:20260108T092752Z
LAST-MODIFIED:20260108T093443Z
UID:3249-1785958200-1785963600@www.injipsingboertange.nl
SUMMARY:Wandelclub
DESCRIPTION:Startlocatie: Kantine JVV\nTijden:\nMaandagochtend om 09.00 uur\nWoensdagavond om 19.30 uur \nDe wandelclub maakt samen wandelingen in de omgeving. Iedereen die graag in beweging is en het leuk vindt om samen te wandelen\, is welkom om mee te doen.\nAanmelden: bij Patricia via 06-52547794.
URL:https://www.injipsingboertange.nl/evenement/wandelclub-83/
CATEGORIES:Wandelclub
END:VEVENT
BEGIN:VEVENT
DTSTART;TZID=Europe/Amsterdam:20260806T133000
DTEND;TZID=Europe/Amsterdam:20260806T160000
DTSTAMP:20260423T212916
CREATED:20260103T112003Z
LAST-MODIFIED:20260103T134654Z
UID:2795-1786023000-1786032000@www.injipsingboertange.nl
SUMMARY:Ouderensoos
DESCRIPTION:Locatie: Boer en Burger Bar De Iembarg\nTijd: elke donderdagmiddag van 13.30 tot 16.00 uur \nDe ouderensoos is een gezellige middag voor ontmoeting en samenzijn. Onder het genot van een drankje is er volop gelegenheid voor een praatje en gezelligheid. Nieuwe bezoekers zijn van harte welkom.
URL:https://www.injipsingboertange.nl/evenement/ouderensoos-36/
CATEGORIES:Ouderensoos
END:VEVENT
BEGIN:VEVENT
DTSTART;TZID=Europe/Amsterdam:20260810T090000
DTEND;TZID=Europe/Amsterdam:20260810T103000
DTSTAMP:20260423T212916
CREATED:20260108T092542Z
LAST-MODIFIED:20260108T093518Z
UID:3198-1786352400-1786357800@www.injipsingboertange.nl
SUMMARY:Wandelclub
DESCRIPTION:Startlocatie: Kantine JVV\nTijden:\nMaandagochtend om 09.00 uur\nWoensdagavond om 19.30 uur \nDe wandelclub maakt samen wandelingen in de omgeving. Iedereen die graag in beweging is en het leuk vindt om samen te wandelen\, is welkom om mee te doen.\nAanmelden: bij Patricia via 06-52547794.
URL:https://www.injipsingboertange.nl/evenement/wandelclub-32/
CATEGORIES:Wandelclub
END:VEVENT
BEGIN:VEVENT
DTSTART;TZID=Europe/Amsterdam:20260812T193000
DTEND;TZID=Europe/Amsterdam:20260812T210000
DTSTAMP:20260423T212916
CREATED:20260108T092752Z
LAST-MODIFIED:20260108T093443Z
UID:3250-1786563000-1786568400@www.injipsingboertange.nl
SUMMARY:Wandelclub
DESCRIPTION:Startlocatie: Kantine JVV\nTijden:\nMaandagochtend om 09.00 uur\nWoensdagavond om 19.30 uur \nDe wandelclub maakt samen wandelingen in de omgeving. Iedereen die graag in beweging is en het leuk vindt om samen te wandelen\, is welkom om mee te doen.\nAanmelden: bij Patricia via 06-52547794.
URL:https://www.injipsingboertange.nl/evenement/wandelclub-84/
CATEGORIES:Wandelclub
END:VEVENT
BEGIN:VEVENT
DTSTART;TZID=Europe/Amsterdam:20260813T133000
DTEND;TZID=Europe/Amsterdam:20260813T160000
DTSTAMP:20260423T212916
CREATED:20260103T112017Z
LAST-MODIFIED:20260103T134654Z
UID:2796-1786627800-1786636800@www.injipsingboertange.nl
SUMMARY:Ouderensoos
DESCRIPTION:Locatie: Boer en Burger Bar De Iembarg\nTijd: elke donderdagmiddag van 13.30 tot 16.00 uur \nDe ouderensoos is een gezellige middag voor ontmoeting en samenzijn. Onder het genot van een drankje is er volop gelegenheid voor een praatje en gezelligheid. Nieuwe bezoekers zijn van harte welkom.
URL:https://www.injipsingboertange.nl/evenement/ouderensoos-37/
CATEGORIES:Ouderensoos
END:VEVENT
BEGIN:VEVENT
DTSTART;TZID=Europe/Amsterdam:20260817T090000
DTEND;TZID=Europe/Amsterdam:20260817T103000
DTSTAMP:20260423T212916
CREATED:20260108T092543Z
LAST-MODIFIED:20260108T093518Z
UID:3199-1786957200-1786962600@www.injipsingboertange.nl
SUMMARY:Wandelclub
DESCRIPTION:Startlocatie: Kantine JVV\nTijden:\nMaandagochtend om 09.00 uur\nWoensdagavond om 19.30 uur \nDe wandelclub maakt samen wandelingen in de omgeving. Iedereen die graag in beweging is en het leuk vindt om samen te wandelen\, is welkom om mee te doen.\nAanmelden: bij Patricia via 06-52547794.
URL:https://www.injipsingboertange.nl/evenement/wandelclub-33/
CATEGORIES:Wandelclub
END:VEVENT
BEGIN:VEVENT
DTSTART;TZID=Europe/Amsterdam:20260819T193000
DTEND;TZID=Europe/Amsterdam:20260819T210000
DTSTAMP:20260423T212916
CREATED:20260108T092752Z
LAST-MODIFIED:20260108T093429Z
UID:3251-1787167800-1787173200@www.injipsingboertange.nl
SUMMARY:Wandelclub
DESCRIPTION:Startlocatie: Kantine JVV\nTijden:\nMaandagochtend om 09.00 uur\nWoensdagavond om 19.30 uur \nDe wandelclub maakt samen wandelingen in de omgeving. Iedereen die graag in beweging is en het leuk vindt om samen te wandelen\, is welkom om mee te doen.\nAanmelden: bij Patricia via 06-52547794.
URL:https://www.injipsingboertange.nl/evenement/wandelclub-85/
CATEGORIES:Wandelclub
END:VEVENT
BEGIN:VEVENT
DTSTART;TZID=Europe/Amsterdam:20260820T133000
DTEND;TZID=Europe/Amsterdam:20260820T160000
DTSTAMP:20260423T212916
CREATED:20260103T112017Z
LAST-MODIFIED:20260103T134654Z
UID:2797-1787232600-1787241600@www.injipsingboertange.nl
SUMMARY:Ouderensoos
DESCRIPTION:Locatie: Boer en Burger Bar De Iembarg\nTijd: elke donderdagmiddag van 13.30 tot 16.00 uur \nDe ouderensoos is een gezellige middag voor ontmoeting en samenzijn. Onder het genot van een drankje is er volop gelegenheid voor een praatje en gezelligheid. Nieuwe bezoekers zijn van harte welkom.
URL:https://www.injipsingboertange.nl/evenement/ouderensoos-38/
CATEGORIES:Ouderensoos
END:VEVENT
BEGIN:VEVENT
DTSTART;TZID=Europe/Amsterdam:20260824T090000
DTEND;TZID=Europe/Amsterdam:20260824T103000
DTSTAMP:20260423T212916
CREATED:20260108T092543Z
LAST-MODIFIED:20260108T093518Z
UID:3200-1787562000-1787567400@www.injipsingboertange.nl
SUMMARY:Wandelclub
DESCRIPTION:Startlocatie: Kantine JVV\nTijden:\nMaandagochtend om 09.00 uur\nWoensdagavond om 19.30 uur \nDe wandelclub maakt samen wandelingen in de omgeving. Iedereen die graag in beweging is en het leuk vindt om samen te wandelen\, is welkom om mee te doen.\nAanmelden: bij Patricia via 06-52547794.
URL:https://www.injipsingboertange.nl/evenement/wandelclub-34/
CATEGORIES:Wandelclub
END:VEVENT
BEGIN:VEVENT
DTSTART;TZID=Europe/Amsterdam:20260826T193000
DTEND;TZID=Europe/Amsterdam:20260826T210000
DTSTAMP:20260423T212916
CREATED:20260108T092753Z
LAST-MODIFIED:20260108T093429Z
UID:3252-1787772600-1787778000@www.injipsingboertange.nl
SUMMARY:Wandelclub
DESCRIPTION:Startlocatie: Kantine JVV\nTijden:\nMaandagochtend om 09.00 uur\nWoensdagavond om 19.30 uur \nDe wandelclub maakt samen wandelingen in de omgeving. Iedereen die graag in beweging is en het leuk vindt om samen te wandelen\, is welkom om mee te doen.\nAanmelden: bij Patricia via 06-52547794.
URL:https://www.injipsingboertange.nl/evenement/wandelclub-86/
CATEGORIES:Wandelclub
END:VEVENT
BEGIN:VEVENT
DTSTART;TZID=Europe/Amsterdam:20260827T133000
DTEND;TZID=Europe/Amsterdam:20260827T160000
DTSTAMP:20260423T212916
CREATED:20260103T112017Z
LAST-MODIFIED:20260103T134654Z
UID:2798-1787837400-1787846400@www.injipsingboertange.nl
SUMMARY:Ouderensoos
DESCRIPTION:Locatie: Boer en Burger Bar De Iembarg\nTijd: elke donderdagmiddag van 13.30 tot 16.00 uur \nDe ouderensoos is een gezellige middag voor ontmoeting en samenzijn. Onder het genot van een drankje is er volop gelegenheid voor een praatje en gezelligheid. Nieuwe bezoekers zijn van harte welkom.
URL:https://www.injipsingboertange.nl/evenement/ouderensoos-39/
CATEGORIES:Ouderensoos
END:VEVENT
BEGIN:VEVENT
DTSTART;TZID=Europe/Amsterdam:20260831T090000
DTEND;TZID=Europe/Amsterdam:20260831T103000
DTSTAMP:20260423T212916
CREATED:20260108T092543Z
LAST-MODIFIED:20260108T093518Z
UID:3201-1788166800-1788172200@www.injipsingboertange.nl
SUMMARY:Wandelclub
DESCRIPTION:Startlocatie: Kantine JVV\nTijden:\nMaandagochtend om 09.00 uur\nWoensdagavond om 19.30 uur \nDe wandelclub maakt samen wandelingen in de omgeving. Iedereen die graag in beweging is en het leuk vindt om samen te wandelen\, is welkom om mee te doen.\nAanmelden: bij Patricia via 06-52547794.
URL:https://www.injipsingboertange.nl/evenement/wandelclub-35/
CATEGORIES:Wandelclub
END:VEVENT
BEGIN:VEVENT
DTSTART;TZID=Europe/Amsterdam:20260902T193000
DTEND;TZID=Europe/Amsterdam:20260902T210000
DTSTAMP:20260423T212916
CREATED:20260108T092753Z
LAST-MODIFIED:20260108T093429Z
UID:3253-1788377400-1788382800@www.injipsingboertange.nl
SUMMARY:Wandelclub
DESCRIPTION:Startlocatie: Kantine JVV\nTijden:\nMaandagochtend om 09.00 uur\nWoensdagavond om 19.30 uur \nDe wandelclub maakt samen wandelingen in de omgeving. Iedereen die graag in beweging is en het leuk vindt om samen te wandelen\, is welkom om mee te doen.\nAanmelden: bij Patricia via 06-52547794.
URL:https://www.injipsingboertange.nl/evenement/wandelclub-87/
CATEGORIES:Wandelclub
END:VEVENT
BEGIN:VEVENT
DTSTART;TZID=Europe/Amsterdam:20260903T133000
DTEND;TZID=Europe/Amsterdam:20260903T160000
DTSTAMP:20260423T212916
CREATED:20260103T112017Z
LAST-MODIFIED:20260103T134654Z
UID:2799-1788442200-1788451200@www.injipsingboertange.nl
SUMMARY:Ouderensoos
DESCRIPTION:Locatie: Boer en Burger Bar De Iembarg\nTijd: elke donderdagmiddag van 13.30 tot 16.00 uur \nDe ouderensoos is een gezellige middag voor ontmoeting en samenzijn. Onder het genot van een drankje is er volop gelegenheid voor een praatje en gezelligheid. Nieuwe bezoekers zijn van harte welkom.
URL:https://www.injipsingboertange.nl/evenement/ouderensoos-40/
CATEGORIES:Ouderensoos
END:VEVENT
BEGIN:VEVENT
DTSTART;TZID=Europe/Amsterdam:20260907T090000
DTEND;TZID=Europe/Amsterdam:20260907T103000
DTSTAMP:20260423T212916
CREATED:20260108T092543Z
LAST-MODIFIED:20260108T093518Z
UID:3202-1788771600-1788777000@www.injipsingboertange.nl
SUMMARY:Wandelclub
DESCRIPTION:Startlocatie: Kantine JVV\nTijden:\nMaandagochtend om 09.00 uur\nWoensdagavond om 19.30 uur \nDe wandelclub maakt samen wandelingen in de omgeving. Iedereen die graag in beweging is en het leuk vindt om samen te wandelen\, is welkom om mee te doen.\nAanmelden: bij Patricia via 06-52547794.
URL:https://www.injipsingboertange.nl/evenement/wandelclub-36/
CATEGORIES:Wandelclub
END:VEVENT
BEGIN:VEVENT
DTSTART;TZID=Europe/Amsterdam:20260909T193000
DTEND;TZID=Europe/Amsterdam:20260909T210000
DTSTAMP:20260423T212916
CREATED:20260108T092800Z
LAST-MODIFIED:20260108T093429Z
UID:3254-1788982200-1788987600@www.injipsingboertange.nl
SUMMARY:Wandelclub
DESCRIPTION:Startlocatie: Kantine JVV\nTijden:\nMaandagochtend om 09.00 uur\nWoensdagavond om 19.30 uur \nDe wandelclub maakt samen wandelingen in de omgeving. Iedereen die graag in beweging is en het leuk vindt om samen te wandelen\, is welkom om mee te doen.\nAanmelden: bij Patricia via 06-52547794.
URL:https://www.injipsingboertange.nl/evenement/wandelclub-88/
CATEGORIES:Wandelclub
END:VEVENT
BEGIN:VEVENT
DTSTART;TZID=Europe/Amsterdam:20260910T133000
DTEND;TZID=Europe/Amsterdam:20260910T160000
DTSTAMP:20260423T212916
CREATED:20260103T112017Z
LAST-MODIFIED:20260103T134654Z
UID:2800-1789047000-1789056000@www.injipsingboertange.nl
SUMMARY:Ouderensoos
DESCRIPTION:Locatie: Boer en Burger Bar De Iembarg\nTijd: elke donderdagmiddag van 13.30 tot 16.00 uur \nDe ouderensoos is een gezellige middag voor ontmoeting en samenzijn. Onder het genot van een drankje is er volop gelegenheid voor een praatje en gezelligheid. Nieuwe bezoekers zijn van harte welkom.
URL:https://www.injipsingboertange.nl/evenement/ouderensoos-41/
CATEGORIES:Ouderensoos
END:VEVENT
END:VCALENDAR