BEGIN:VCALENDAR
VERSION:2.0
PRODID:-//InJipsingboertange - ECPv6.15.20//NONSGML v1.0//EN
CALSCALE:GREGORIAN
METHOD:PUBLISH
X-WR-CALNAME:InJipsingboertange
X-ORIGINAL-URL:https://www.injipsingboertange.nl
X-WR-CALDESC:Evenementen voor InJipsingboertange
REFRESH-INTERVAL;VALUE=DURATION:PT1H
X-Robots-Tag:noindex
X-PUBLISHED-TTL:PT1H
BEGIN:VTIMEZONE
TZID:Europe/Amsterdam
BEGIN:DAYLIGHT
TZOFFSETFROM:+0100
TZOFFSETTO:+0200
TZNAME:CEST
DTSTART:20250330T010000
END:DAYLIGHT
BEGIN:STANDARD
TZOFFSETFROM:+0200
TZOFFSETTO:+0100
TZNAME:CET
DTSTART:20251026T010000
END:STANDARD
BEGIN:DAYLIGHT
TZOFFSETFROM:+0100
TZOFFSETTO:+0200
TZNAME:CEST
DTSTART:20260329T010000
END:DAYLIGHT
BEGIN:STANDARD
TZOFFSETFROM:+0200
TZOFFSETTO:+0100
TZNAME:CET
DTSTART:20261025T010000
END:STANDARD
BEGIN:DAYLIGHT
TZOFFSETFROM:+0100
TZOFFSETTO:+0200
TZNAME:CEST
DTSTART:20270328T010000
END:DAYLIGHT
BEGIN:STANDARD
TZOFFSETFROM:+0200
TZOFFSETTO:+0100
TZNAME:CET
DTSTART:20271031T010000
END:STANDARD
END:VTIMEZONE
BEGIN:VEVENT
DTSTART;TZID=Europe/Amsterdam:20260330T090000
DTEND;TZID=Europe/Amsterdam:20260330T103000
DTSTAMP:20260423T134321
CREATED:20260103T112147Z
LAST-MODIFIED:20260103T134508Z
UID:2829-1774861200-1774866600@www.injipsingboertange.nl
SUMMARY:Wandelclub
DESCRIPTION:Startlocatie: Kantine JVV\nTijden:\nMaandagochtend om 09.00 uur\nWoensdagavond om 19.30 uur \nDe wandelclub maakt samen wandelingen in de omgeving. Iedereen die graag in beweging is en het leuk vindt om samen te wandelen\, is welkom om mee te doen.\nAanmelden: bij Patricia via 06-52547794.
URL:https://www.injipsingboertange.nl/evenement/wandelclub-13/
CATEGORIES:Wandelclub
END:VEVENT
END:VCALENDAR