BEGIN:VCALENDAR
VERSION:2.0
PRODID:-//InJipsingboertange - ECPv6.15.20//NONSGML v1.0//EN
CALSCALE:GREGORIAN
METHOD:PUBLISH
X-WR-CALNAME:InJipsingboertange
X-ORIGINAL-URL:https://www.injipsingboertange.nl
X-WR-CALDESC:Evenementen voor InJipsingboertange
REFRESH-INTERVAL;VALUE=DURATION:PT1H
X-Robots-Tag:noindex
X-PUBLISHED-TTL:PT1H
BEGIN:VTIMEZONE
TZID:Europe/Amsterdam
BEGIN:DAYLIGHT
TZOFFSETFROM:+0100
TZOFFSETTO:+0200
TZNAME:CEST
DTSTART:20250330T010000
END:DAYLIGHT
BEGIN:STANDARD
TZOFFSETFROM:+0200
TZOFFSETTO:+0100
TZNAME:CET
DTSTART:20251026T010000
END:STANDARD
BEGIN:DAYLIGHT
TZOFFSETFROM:+0100
TZOFFSETTO:+0200
TZNAME:CEST
DTSTART:20260329T010000
END:DAYLIGHT
BEGIN:STANDARD
TZOFFSETFROM:+0200
TZOFFSETTO:+0100
TZNAME:CET
DTSTART:20261025T010000
END:STANDARD
BEGIN:DAYLIGHT
TZOFFSETFROM:+0100
TZOFFSETTO:+0200
TZNAME:CEST
DTSTART:20270328T010000
END:DAYLIGHT
BEGIN:STANDARD
TZOFFSETFROM:+0200
TZOFFSETTO:+0100
TZNAME:CET
DTSTART:20271031T010000
END:STANDARD
END:VTIMEZONE
BEGIN:VEVENT
DTSTART;TZID=Europe/Amsterdam:20260504T090000
DTEND;TZID=Europe/Amsterdam:20260504T103000
DTSTAMP:20260423T134205
CREATED:20260103T112202Z
LAST-MODIFIED:20260103T134508Z
UID:2834-1777885200-1777890600@www.injipsingboertange.nl
SUMMARY:Wandelclub
DESCRIPTION:Startlocatie: Kantine JVV\nTijden:\nMaandagochtend om 09.00 uur\nWoensdagavond om 19.30 uur \nDe wandelclub maakt samen wandelingen in de omgeving. Iedereen die graag in beweging is en het leuk vindt om samen te wandelen\, is welkom om mee te doen.\nAanmelden: bij Patricia via 06-52547794.
URL:https://www.injipsingboertange.nl/evenement/wandelclub-18/
CATEGORIES:Wandelclub
END:VEVENT
BEGIN:VEVENT
DTSTART;TZID=Europe/Amsterdam:20260506T193000
DTEND;TZID=Europe/Amsterdam:20260506T210000
DTSTAMP:20260423T134205
CREATED:20260108T092723Z
LAST-MODIFIED:20260108T093443Z
UID:3236-1778095800-1778101200@www.injipsingboertange.nl
SUMMARY:Wandelclub
DESCRIPTION:Startlocatie: Kantine JVV\nTijden:\nMaandagochtend om 09.00 uur\nWoensdagavond om 19.30 uur \nDe wandelclub maakt samen wandelingen in de omgeving. Iedereen die graag in beweging is en het leuk vindt om samen te wandelen\, is welkom om mee te doen.\nAanmelden: bij Patricia via 06-52547794.
URL:https://www.injipsingboertange.nl/evenement/wandelclub-70/
CATEGORIES:Wandelclub
END:VEVENT
BEGIN:VEVENT
DTSTART;TZID=Europe/Amsterdam:20260511T090000
DTEND;TZID=Europe/Amsterdam:20260511T103000
DTSTAMP:20260423T134205
CREATED:20260103T112202Z
LAST-MODIFIED:20260103T134508Z
UID:2835-1778490000-1778495400@www.injipsingboertange.nl
SUMMARY:Wandelclub
DESCRIPTION:Startlocatie: Kantine JVV\nTijden:\nMaandagochtend om 09.00 uur\nWoensdagavond om 19.30 uur \nDe wandelclub maakt samen wandelingen in de omgeving. Iedereen die graag in beweging is en het leuk vindt om samen te wandelen\, is welkom om mee te doen.\nAanmelden: bij Patricia via 06-52547794.
URL:https://www.injipsingboertange.nl/evenement/wandelclub-19/
CATEGORIES:Wandelclub
END:VEVENT
BEGIN:VEVENT
DTSTART;TZID=Europe/Amsterdam:20260513T193000
DTEND;TZID=Europe/Amsterdam:20260513T210000
DTSTAMP:20260423T134205
CREATED:20260108T092723Z
LAST-MODIFIED:20260108T093443Z
UID:3237-1778700600-1778706000@www.injipsingboertange.nl
SUMMARY:Wandelclub
DESCRIPTION:Startlocatie: Kantine JVV\nTijden:\nMaandagochtend om 09.00 uur\nWoensdagavond om 19.30 uur \nDe wandelclub maakt samen wandelingen in de omgeving. Iedereen die graag in beweging is en het leuk vindt om samen te wandelen\, is welkom om mee te doen.\nAanmelden: bij Patricia via 06-52547794.
URL:https://www.injipsingboertange.nl/evenement/wandelclub-71/
CATEGORIES:Wandelclub
END:VEVENT
BEGIN:VEVENT
DTSTART;TZID=Europe/Amsterdam:20260518T090000
DTEND;TZID=Europe/Amsterdam:20260518T103000
DTSTAMP:20260423T134205
CREATED:20260103T112217Z
LAST-MODIFIED:20260103T134508Z
UID:2836-1779094800-1779100200@www.injipsingboertange.nl
SUMMARY:Wandelclub
DESCRIPTION:Startlocatie: Kantine JVV\nTijden:\nMaandagochtend om 09.00 uur\nWoensdagavond om 19.30 uur \nDe wandelclub maakt samen wandelingen in de omgeving. Iedereen die graag in beweging is en het leuk vindt om samen te wandelen\, is welkom om mee te doen.\nAanmelden: bij Patricia via 06-52547794.
URL:https://www.injipsingboertange.nl/evenement/wandelclub-20/
CATEGORIES:Wandelclub
END:VEVENT
BEGIN:VEVENT
DTSTART;TZID=Europe/Amsterdam:20260520T193000
DTEND;TZID=Europe/Amsterdam:20260520T210000
DTSTAMP:20260423T134205
CREATED:20260108T092724Z
LAST-MODIFIED:20260108T093443Z
UID:3238-1779305400-1779310800@www.injipsingboertange.nl
SUMMARY:Wandelclub
DESCRIPTION:Startlocatie: Kantine JVV\nTijden:\nMaandagochtend om 09.00 uur\nWoensdagavond om 19.30 uur \nDe wandelclub maakt samen wandelingen in de omgeving. Iedereen die graag in beweging is en het leuk vindt om samen te wandelen\, is welkom om mee te doen.\nAanmelden: bij Patricia via 06-52547794.
URL:https://www.injipsingboertange.nl/evenement/wandelclub-72/
CATEGORIES:Wandelclub
END:VEVENT
BEGIN:VEVENT
DTSTART;TZID=Europe/Amsterdam:20260525T090000
DTEND;TZID=Europe/Amsterdam:20260525T103000
DTSTAMP:20260423T134205
CREATED:20260103T112217Z
LAST-MODIFIED:20260103T134507Z
UID:2837-1779699600-1779705000@www.injipsingboertange.nl
SUMMARY:Wandelclub
DESCRIPTION:Startlocatie: Kantine JVV\nTijden:\nMaandagochtend om 09.00 uur\nWoensdagavond om 19.30 uur \nDe wandelclub maakt samen wandelingen in de omgeving. Iedereen die graag in beweging is en het leuk vindt om samen te wandelen\, is welkom om mee te doen.\nAanmelden: bij Patricia via 06-52547794.
URL:https://www.injipsingboertange.nl/evenement/wandelclub-21/
CATEGORIES:Wandelclub
END:VEVENT
BEGIN:VEVENT
DTSTART;TZID=Europe/Amsterdam:20260527T193000
DTEND;TZID=Europe/Amsterdam:20260527T210000
DTSTAMP:20260423T134205
CREATED:20260108T092726Z
LAST-MODIFIED:20260108T093443Z
UID:3239-1779910200-1779915600@www.injipsingboertange.nl
SUMMARY:Wandelclub
DESCRIPTION:Startlocatie: Kantine JVV\nTijden:\nMaandagochtend om 09.00 uur\nWoensdagavond om 19.30 uur \nDe wandelclub maakt samen wandelingen in de omgeving. Iedereen die graag in beweging is en het leuk vindt om samen te wandelen\, is welkom om mee te doen.\nAanmelden: bij Patricia via 06-52547794.
URL:https://www.injipsingboertange.nl/evenement/wandelclub-73/
CATEGORIES:Wandelclub
END:VEVENT
END:VCALENDAR