BEGIN:VCALENDAR
VERSION:2.0
PRODID:-//InJipsingboertange - ECPv6.15.20//NONSGML v1.0//EN
CALSCALE:GREGORIAN
METHOD:PUBLISH
X-ORIGINAL-URL:https://www.injipsingboertange.nl
X-WR-CALDESC:Evenementen voor InJipsingboertange
REFRESH-INTERVAL;VALUE=DURATION:PT1H
X-Robots-Tag:noindex
X-PUBLISHED-TTL:PT1H
BEGIN:VTIMEZONE
TZID:Europe/Amsterdam
BEGIN:DAYLIGHT
TZOFFSETFROM:+0100
TZOFFSETTO:+0200
TZNAME:CEST
DTSTART:20250330T010000
END:DAYLIGHT
BEGIN:STANDARD
TZOFFSETFROM:+0200
TZOFFSETTO:+0100
TZNAME:CET
DTSTART:20251026T010000
END:STANDARD
BEGIN:DAYLIGHT
TZOFFSETFROM:+0100
TZOFFSETTO:+0200
TZNAME:CEST
DTSTART:20260329T010000
END:DAYLIGHT
BEGIN:STANDARD
TZOFFSETFROM:+0200
TZOFFSETTO:+0100
TZNAME:CET
DTSTART:20261025T010000
END:STANDARD
BEGIN:DAYLIGHT
TZOFFSETFROM:+0100
TZOFFSETTO:+0200
TZNAME:CEST
DTSTART:20270328T010000
END:DAYLIGHT
BEGIN:STANDARD
TZOFFSETFROM:+0200
TZOFFSETTO:+0100
TZNAME:CET
DTSTART:20271031T010000
END:STANDARD
END:VTIMEZONE
BEGIN:VEVENT
DTSTART;TZID=Europe/Amsterdam:20260321T190000
DTEND;TZID=Europe/Amsterdam:20260321T220000
DTSTAMP:20260422T020232
CREATED:20260103T102857Z
LAST-MODIFIED:20260104T124833Z
UID:2554-1774119600-1774130400@www.injipsingboertange.nl
SUMMARY:Toneelvoorstelling Het Tangervolk
DESCRIPTION:Locatie: Zaal Summertime\, Mussel\nZaal open: 19.00 uur\nAanvang: 20.00 uur\nContactpersoon: Bianca \n \nDe Toneelvereniging Tangervolk werd opgericht in 1986 en viert in 2026 haar 40-jarig bestaan. In die veertig jaar zijn er talloze voorstellingen opgevoerd\, met zeer uiteenlopende decors: van een oude boerenhoeve tot een ziekenhuis\, en van een camping tot het erf van een boerderij. \nJarenlang werd er gespeeld en gerepeteerd in het inmiddels verdwenen dorpshuis. De uitvoering in 2026 is het derde toneelstuk dat Het Tangervolk opvoert in Zaal Summertime in Mussel. Sinds de sluiting van het dorpshuis zijn zij hier gastvrij ontvangen. Hoewel dit voor sommigen wat verder reizen is\, hoopt de vereniging ook het publiek uit het eigen dorp weer te mogen verwelkomen in Mussel. \nVia de Facebookpagina van Toneelvereniging Het Tangervolk blijven belangstellenden op de hoogte van het laatste nieuws\, aankondigingen en speeldatums. Daarnaast worden de uitvoeringen aangekondigd via InJipsingboertange.nl\, flyers en het dorpsblad. \nHet Tangervolk nodigt iedereen van harte uit om een van de voorstellingen bij te wonen en samen het 40-jarig jubileum te vieren.
URL:https://www.injipsingboertange.nl/evenement/toneelvoorstelling-het-tangervolk/
CATEGORIES:Toneelvereniging tangervolk
ATTACH;FMTTYPE=image/jpeg:https://www.injipsingboertange.nl/wp-content/uploads/2026/01/Flyer-Tangervolk.jpg
END:VEVENT
END:VCALENDAR