BEGIN:VCALENDAR
VERSION:2.0
PRODID:-//InJipsingboertange - ECPv6.15.20//NONSGML v1.0//EN
CALSCALE:GREGORIAN
METHOD:PUBLISH
X-ORIGINAL-URL:https://www.injipsingboertange.nl
X-WR-CALDESC:Evenementen voor InJipsingboertange
REFRESH-INTERVAL;VALUE=DURATION:PT1H
X-Robots-Tag:noindex
X-PUBLISHED-TTL:PT1H
BEGIN:VTIMEZONE
TZID:Europe/Amsterdam
BEGIN:DAYLIGHT
TZOFFSETFROM:+0100
TZOFFSETTO:+0200
TZNAME:CEST
DTSTART:20250330T010000
END:DAYLIGHT
BEGIN:STANDARD
TZOFFSETFROM:+0200
TZOFFSETTO:+0100
TZNAME:CET
DTSTART:20251026T010000
END:STANDARD
BEGIN:DAYLIGHT
TZOFFSETFROM:+0100
TZOFFSETTO:+0200
TZNAME:CEST
DTSTART:20260329T010000
END:DAYLIGHT
BEGIN:STANDARD
TZOFFSETFROM:+0200
TZOFFSETTO:+0100
TZNAME:CET
DTSTART:20261025T010000
END:STANDARD
BEGIN:DAYLIGHT
TZOFFSETFROM:+0100
TZOFFSETTO:+0200
TZNAME:CEST
DTSTART:20270328T010000
END:DAYLIGHT
BEGIN:STANDARD
TZOFFSETFROM:+0200
TZOFFSETTO:+0100
TZNAME:CET
DTSTART:20271031T010000
END:STANDARD
END:VTIMEZONE
BEGIN:VEVENT
DTSTART;VALUE=DATE:20260328
DTEND;VALUE=DATE:20260329
DTSTAMP:20260421T225942
CREATED:20260103T103532Z
LAST-MODIFIED:20260325T151927Z
UID:2566-1774656000-1774742399@www.injipsingboertange.nl
SUMMARY:Rommelmarkt JVV
DESCRIPTION:Zaterdag 28 maart houdt JVV een rommelmarkt. U bent van 10:00 tot 13:00 uur van harte welkom om leuke spullen te kopen\, gezellig een hapje of drankje te nemen en om mee te doen aan de verloting. \nWilt u spullen doneren? Wij komen op zaterdag 21 maart uw spullen ophalen.
URL:https://www.injipsingboertange.nl/evenement/rommelmarkt-jvv/
CATEGORIES:Overig
END:VEVENT
BEGIN:VEVENT
DTSTART;TZID=Europe/Amsterdam:20260406T110000
DTEND;TZID=Europe/Amsterdam:20260406T140000
DTSTAMP:20260421T225942
CREATED:20260103T103556Z
LAST-MODIFIED:20260308T162513Z
UID:2568-1775473200-1775484000@www.injipsingboertange.nl
SUMMARY:Neuten schaiten
DESCRIPTION:Traditiegetrouw gaan wij op 2e Paasdag (dit jaar op 6 april) vanaf 11.00 uur Neuten Schaiten\, net als vorig jaar in Boer en Burgerbar De Iembarg.\nDe toegang is gratis\, consumpties zijn voor eigen rekening. Opgeven is niet nodig.
URL:https://www.injipsingboertange.nl/evenement/neutn-schaitn/
LOCATION:Boer en Burgerbar De Iembarg\, Jipsingboertangerweg 35a\, Sellingen\, 9551TN\, Netherlands
CATEGORIES:Overig
END:VEVENT
END:VCALENDAR