BEGIN:VCALENDAR
VERSION:2.0
PRODID:-//InJipsingboertange - ECPv6.15.20//NONSGML v1.0//EN
CALSCALE:GREGORIAN
METHOD:PUBLISH
X-WR-CALNAME:InJipsingboertange
X-ORIGINAL-URL:https://www.injipsingboertange.nl
X-WR-CALDESC:Evenementen voor InJipsingboertange
REFRESH-INTERVAL;VALUE=DURATION:PT1H
X-Robots-Tag:noindex
X-PUBLISHED-TTL:PT1H
BEGIN:VTIMEZONE
TZID:Europe/Amsterdam
BEGIN:DAYLIGHT
TZOFFSETFROM:+0100
TZOFFSETTO:+0200
TZNAME:CEST
DTSTART:20250330T010000
END:DAYLIGHT
BEGIN:STANDARD
TZOFFSETFROM:+0200
TZOFFSETTO:+0100
TZNAME:CET
DTSTART:20251026T010000
END:STANDARD
BEGIN:DAYLIGHT
TZOFFSETFROM:+0100
TZOFFSETTO:+0200
TZNAME:CEST
DTSTART:20260329T010000
END:DAYLIGHT
BEGIN:STANDARD
TZOFFSETFROM:+0200
TZOFFSETTO:+0100
TZNAME:CET
DTSTART:20261025T010000
END:STANDARD
BEGIN:DAYLIGHT
TZOFFSETFROM:+0100
TZOFFSETTO:+0200
TZNAME:CEST
DTSTART:20270328T010000
END:DAYLIGHT
BEGIN:STANDARD
TZOFFSETFROM:+0200
TZOFFSETTO:+0100
TZNAME:CET
DTSTART:20271031T010000
END:STANDARD
END:VTIMEZONE
BEGIN:VEVENT
DTSTART;TZID=Europe/Amsterdam:20260326T133000
DTEND;TZID=Europe/Amsterdam:20260326T160000
DTSTAMP:20260422T025047
CREATED:20260103T111917Z
LAST-MODIFIED:20260103T134624Z
UID:2776-1774531800-1774540800@www.injipsingboertange.nl
SUMMARY:Ouderensoos
DESCRIPTION:Locatie: Boer en Burger Bar De Iembarg\nTijd: elke donderdagmiddag van 13.30 tot 16.00 uur \nDe ouderensoos is een gezellige middag voor ontmoeting en samenzijn. Onder het genot van een drankje is er volop gelegenheid voor een praatje en gezelligheid. Nieuwe bezoekers zijn van harte welkom.
URL:https://www.injipsingboertange.nl/evenement/ouderensoos-17/
CATEGORIES:Ouderensoos
END:VEVENT
BEGIN:VEVENT
DTSTART;TZID=Europe/Amsterdam:20260402T133000
DTEND;TZID=Europe/Amsterdam:20260402T160000
DTSTAMP:20260422T025047
CREATED:20260103T111917Z
LAST-MODIFIED:20260103T134624Z
UID:2777-1775136600-1775145600@www.injipsingboertange.nl
SUMMARY:Ouderensoos
DESCRIPTION:Locatie: Boer en Burger Bar De Iembarg\nTijd: elke donderdagmiddag van 13.30 tot 16.00 uur \nDe ouderensoos is een gezellige middag voor ontmoeting en samenzijn. Onder het genot van een drankje is er volop gelegenheid voor een praatje en gezelligheid. Nieuwe bezoekers zijn van harte welkom.
URL:https://www.injipsingboertange.nl/evenement/ouderensoos-18/
CATEGORIES:Ouderensoos
END:VEVENT
BEGIN:VEVENT
DTSTART;TZID=Europe/Amsterdam:20260409T133000
DTEND;TZID=Europe/Amsterdam:20260409T160000
DTSTAMP:20260422T025047
CREATED:20260103T111917Z
LAST-MODIFIED:20260103T134624Z
UID:2778-1775741400-1775750400@www.injipsingboertange.nl
SUMMARY:Ouderensoos
DESCRIPTION:Locatie: Boer en Burger Bar De Iembarg\nTijd: elke donderdagmiddag van 13.30 tot 16.00 uur \nDe ouderensoos is een gezellige middag voor ontmoeting en samenzijn. Onder het genot van een drankje is er volop gelegenheid voor een praatje en gezelligheid. Nieuwe bezoekers zijn van harte welkom.
URL:https://www.injipsingboertange.nl/evenement/ouderensoos-19/
CATEGORIES:Ouderensoos
END:VEVENT
BEGIN:VEVENT
DTSTART;TZID=Europe/Amsterdam:20260416T133000
DTEND;TZID=Europe/Amsterdam:20260416T160000
DTSTAMP:20260422T025047
CREATED:20260103T111917Z
LAST-MODIFIED:20260103T134624Z
UID:2779-1776346200-1776355200@www.injipsingboertange.nl
SUMMARY:Ouderensoos
DESCRIPTION:Locatie: Boer en Burger Bar De Iembarg\nTijd: elke donderdagmiddag van 13.30 tot 16.00 uur \nDe ouderensoos is een gezellige middag voor ontmoeting en samenzijn. Onder het genot van een drankje is er volop gelegenheid voor een praatje en gezelligheid. Nieuwe bezoekers zijn van harte welkom.
URL:https://www.injipsingboertange.nl/evenement/ouderensoos-20/
CATEGORIES:Ouderensoos
END:VEVENT
BEGIN:VEVENT
DTSTART;TZID=Europe/Amsterdam:20260423T133000
DTEND;TZID=Europe/Amsterdam:20260423T160000
DTSTAMP:20260422T025047
CREATED:20260103T111917Z
LAST-MODIFIED:20260103T134624Z
UID:2780-1776951000-1776960000@www.injipsingboertange.nl
SUMMARY:Ouderensoos
DESCRIPTION:Locatie: Boer en Burger Bar De Iembarg\nTijd: elke donderdagmiddag van 13.30 tot 16.00 uur \nDe ouderensoos is een gezellige middag voor ontmoeting en samenzijn. Onder het genot van een drankje is er volop gelegenheid voor een praatje en gezelligheid. Nieuwe bezoekers zijn van harte welkom.
URL:https://www.injipsingboertange.nl/evenement/ouderensoos-21/
CATEGORIES:Ouderensoos
END:VEVENT
BEGIN:VEVENT
DTSTART;TZID=Europe/Amsterdam:20260430T133000
DTEND;TZID=Europe/Amsterdam:20260430T160000
DTSTAMP:20260422T025047
CREATED:20260103T111932Z
LAST-MODIFIED:20260103T134625Z
UID:2781-1777555800-1777564800@www.injipsingboertange.nl
SUMMARY:Ouderensoos
DESCRIPTION:Locatie: Boer en Burger Bar De Iembarg\nTijd: elke donderdagmiddag van 13.30 tot 16.00 uur \nDe ouderensoos is een gezellige middag voor ontmoeting en samenzijn. Onder het genot van een drankje is er volop gelegenheid voor een praatje en gezelligheid. Nieuwe bezoekers zijn van harte welkom.
URL:https://www.injipsingboertange.nl/evenement/ouderensoos-22/
CATEGORIES:Ouderensoos
END:VEVENT
BEGIN:VEVENT
DTSTART;TZID=Europe/Amsterdam:20260507T133000
DTEND;TZID=Europe/Amsterdam:20260507T160000
DTSTAMP:20260422T025047
CREATED:20260103T111932Z
LAST-MODIFIED:20260103T134625Z
UID:2782-1778160600-1778169600@www.injipsingboertange.nl
SUMMARY:Ouderensoos
DESCRIPTION:Locatie: Boer en Burger Bar De Iembarg\nTijd: elke donderdagmiddag van 13.30 tot 16.00 uur \nDe ouderensoos is een gezellige middag voor ontmoeting en samenzijn. Onder het genot van een drankje is er volop gelegenheid voor een praatje en gezelligheid. Nieuwe bezoekers zijn van harte welkom.
URL:https://www.injipsingboertange.nl/evenement/ouderensoos-23/
CATEGORIES:Ouderensoos
END:VEVENT
BEGIN:VEVENT
DTSTART;TZID=Europe/Amsterdam:20260514T133000
DTEND;TZID=Europe/Amsterdam:20260514T160000
DTSTAMP:20260422T025047
CREATED:20260103T111932Z
LAST-MODIFIED:20260103T134625Z
UID:2783-1778765400-1778774400@www.injipsingboertange.nl
SUMMARY:Ouderensoos
DESCRIPTION:Locatie: Boer en Burger Bar De Iembarg\nTijd: elke donderdagmiddag van 13.30 tot 16.00 uur \nDe ouderensoos is een gezellige middag voor ontmoeting en samenzijn. Onder het genot van een drankje is er volop gelegenheid voor een praatje en gezelligheid. Nieuwe bezoekers zijn van harte welkom.
URL:https://www.injipsingboertange.nl/evenement/ouderensoos-24/
CATEGORIES:Ouderensoos
END:VEVENT
BEGIN:VEVENT
DTSTART;TZID=Europe/Amsterdam:20260521T133000
DTEND;TZID=Europe/Amsterdam:20260521T160000
DTSTAMP:20260422T025047
CREATED:20260103T111932Z
LAST-MODIFIED:20260103T134654Z
UID:2784-1779370200-1779379200@www.injipsingboertange.nl
SUMMARY:Ouderensoos
DESCRIPTION:Locatie: Boer en Burger Bar De Iembarg\nTijd: elke donderdagmiddag van 13.30 tot 16.00 uur \nDe ouderensoos is een gezellige middag voor ontmoeting en samenzijn. Onder het genot van een drankje is er volop gelegenheid voor een praatje en gezelligheid. Nieuwe bezoekers zijn van harte welkom.
URL:https://www.injipsingboertange.nl/evenement/ouderensoos-25/
CATEGORIES:Ouderensoos
END:VEVENT
BEGIN:VEVENT
DTSTART;TZID=Europe/Amsterdam:20260528T133000
DTEND;TZID=Europe/Amsterdam:20260528T160000
DTSTAMP:20260422T025047
CREATED:20260103T111932Z
LAST-MODIFIED:20260103T134654Z
UID:2785-1779975000-1779984000@www.injipsingboertange.nl
SUMMARY:Ouderensoos
DESCRIPTION:Locatie: Boer en Burger Bar De Iembarg\nTijd: elke donderdagmiddag van 13.30 tot 16.00 uur \nDe ouderensoos is een gezellige middag voor ontmoeting en samenzijn. Onder het genot van een drankje is er volop gelegenheid voor een praatje en gezelligheid. Nieuwe bezoekers zijn van harte welkom.
URL:https://www.injipsingboertange.nl/evenement/ouderensoos-26/
CATEGORIES:Ouderensoos
END:VEVENT
BEGIN:VEVENT
DTSTART;TZID=Europe/Amsterdam:20260604T133000
DTEND;TZID=Europe/Amsterdam:20260604T160000
DTSTAMP:20260422T025047
CREATED:20260103T111947Z
LAST-MODIFIED:20260103T134654Z
UID:2786-1780579800-1780588800@www.injipsingboertange.nl
SUMMARY:Ouderensoos
DESCRIPTION:Locatie: Boer en Burger Bar De Iembarg\nTijd: elke donderdagmiddag van 13.30 tot 16.00 uur \nDe ouderensoos is een gezellige middag voor ontmoeting en samenzijn. Onder het genot van een drankje is er volop gelegenheid voor een praatje en gezelligheid. Nieuwe bezoekers zijn van harte welkom.
URL:https://www.injipsingboertange.nl/evenement/ouderensoos-27/
CATEGORIES:Ouderensoos
END:VEVENT
BEGIN:VEVENT
DTSTART;TZID=Europe/Amsterdam:20260611T133000
DTEND;TZID=Europe/Amsterdam:20260611T160000
DTSTAMP:20260422T025047
CREATED:20260103T111947Z
LAST-MODIFIED:20260103T134654Z
UID:2787-1781184600-1781193600@www.injipsingboertange.nl
SUMMARY:Ouderensoos
DESCRIPTION:Locatie: Boer en Burger Bar De Iembarg\nTijd: elke donderdagmiddag van 13.30 tot 16.00 uur \nDe ouderensoos is een gezellige middag voor ontmoeting en samenzijn. Onder het genot van een drankje is er volop gelegenheid voor een praatje en gezelligheid. Nieuwe bezoekers zijn van harte welkom.
URL:https://www.injipsingboertange.nl/evenement/ouderensoos-28/
CATEGORIES:Ouderensoos
END:VEVENT
BEGIN:VEVENT
DTSTART;TZID=Europe/Amsterdam:20260618T133000
DTEND;TZID=Europe/Amsterdam:20260618T160000
DTSTAMP:20260422T025047
CREATED:20260103T111947Z
LAST-MODIFIED:20260103T134654Z
UID:2788-1781789400-1781798400@www.injipsingboertange.nl
SUMMARY:Ouderensoos
DESCRIPTION:Locatie: Boer en Burger Bar De Iembarg\nTijd: elke donderdagmiddag van 13.30 tot 16.00 uur \nDe ouderensoos is een gezellige middag voor ontmoeting en samenzijn. Onder het genot van een drankje is er volop gelegenheid voor een praatje en gezelligheid. Nieuwe bezoekers zijn van harte welkom.
URL:https://www.injipsingboertange.nl/evenement/ouderensoos-29/
CATEGORIES:Ouderensoos
END:VEVENT
BEGIN:VEVENT
DTSTART;TZID=Europe/Amsterdam:20260625T133000
DTEND;TZID=Europe/Amsterdam:20260625T160000
DTSTAMP:20260422T025047
CREATED:20260103T111947Z
LAST-MODIFIED:20260103T134654Z
UID:2789-1782394200-1782403200@www.injipsingboertange.nl
SUMMARY:Ouderensoos
DESCRIPTION:Locatie: Boer en Burger Bar De Iembarg\nTijd: elke donderdagmiddag van 13.30 tot 16.00 uur \nDe ouderensoos is een gezellige middag voor ontmoeting en samenzijn. Onder het genot van een drankje is er volop gelegenheid voor een praatje en gezelligheid. Nieuwe bezoekers zijn van harte welkom.
URL:https://www.injipsingboertange.nl/evenement/ouderensoos-30/
CATEGORIES:Ouderensoos
END:VEVENT
BEGIN:VEVENT
DTSTART;TZID=Europe/Amsterdam:20260702T133000
DTEND;TZID=Europe/Amsterdam:20260702T160000
DTSTAMP:20260422T025047
CREATED:20260103T111947Z
LAST-MODIFIED:20260103T134654Z
UID:2790-1782999000-1783008000@www.injipsingboertange.nl
SUMMARY:Ouderensoos
DESCRIPTION:Locatie: Boer en Burger Bar De Iembarg\nTijd: elke donderdagmiddag van 13.30 tot 16.00 uur \nDe ouderensoos is een gezellige middag voor ontmoeting en samenzijn. Onder het genot van een drankje is er volop gelegenheid voor een praatje en gezelligheid. Nieuwe bezoekers zijn van harte welkom.
URL:https://www.injipsingboertange.nl/evenement/ouderensoos-31/
CATEGORIES:Ouderensoos
END:VEVENT
BEGIN:VEVENT
DTSTART;TZID=Europe/Amsterdam:20260709T133000
DTEND;TZID=Europe/Amsterdam:20260709T160000
DTSTAMP:20260422T025047
CREATED:20260103T112002Z
LAST-MODIFIED:20260103T134654Z
UID:2791-1783603800-1783612800@www.injipsingboertange.nl
SUMMARY:Ouderensoos
DESCRIPTION:Locatie: Boer en Burger Bar De Iembarg\nTijd: elke donderdagmiddag van 13.30 tot 16.00 uur \nDe ouderensoos is een gezellige middag voor ontmoeting en samenzijn. Onder het genot van een drankje is er volop gelegenheid voor een praatje en gezelligheid. Nieuwe bezoekers zijn van harte welkom.
URL:https://www.injipsingboertange.nl/evenement/ouderensoos-32/
CATEGORIES:Ouderensoos
END:VEVENT
BEGIN:VEVENT
DTSTART;TZID=Europe/Amsterdam:20260716T133000
DTEND;TZID=Europe/Amsterdam:20260716T160000
DTSTAMP:20260422T025047
CREATED:20260103T112002Z
LAST-MODIFIED:20260103T134654Z
UID:2792-1784208600-1784217600@www.injipsingboertange.nl
SUMMARY:Ouderensoos
DESCRIPTION:Locatie: Boer en Burger Bar De Iembarg\nTijd: elke donderdagmiddag van 13.30 tot 16.00 uur \nDe ouderensoos is een gezellige middag voor ontmoeting en samenzijn. Onder het genot van een drankje is er volop gelegenheid voor een praatje en gezelligheid. Nieuwe bezoekers zijn van harte welkom.
URL:https://www.injipsingboertange.nl/evenement/ouderensoos-33/
CATEGORIES:Ouderensoos
END:VEVENT
BEGIN:VEVENT
DTSTART;TZID=Europe/Amsterdam:20260723T133000
DTEND;TZID=Europe/Amsterdam:20260723T160000
DTSTAMP:20260422T025047
CREATED:20260103T112002Z
LAST-MODIFIED:20260103T134654Z
UID:2793-1784813400-1784822400@www.injipsingboertange.nl
SUMMARY:Ouderensoos
DESCRIPTION:Locatie: Boer en Burger Bar De Iembarg\nTijd: elke donderdagmiddag van 13.30 tot 16.00 uur \nDe ouderensoos is een gezellige middag voor ontmoeting en samenzijn. Onder het genot van een drankje is er volop gelegenheid voor een praatje en gezelligheid. Nieuwe bezoekers zijn van harte welkom.
URL:https://www.injipsingboertange.nl/evenement/ouderensoos-34/
CATEGORIES:Ouderensoos
END:VEVENT
BEGIN:VEVENT
DTSTART;TZID=Europe/Amsterdam:20260730T133000
DTEND;TZID=Europe/Amsterdam:20260730T160000
DTSTAMP:20260422T025047
CREATED:20260103T112002Z
LAST-MODIFIED:20260103T134654Z
UID:2794-1785418200-1785427200@www.injipsingboertange.nl
SUMMARY:Ouderensoos
DESCRIPTION:Locatie: Boer en Burger Bar De Iembarg\nTijd: elke donderdagmiddag van 13.30 tot 16.00 uur \nDe ouderensoos is een gezellige middag voor ontmoeting en samenzijn. Onder het genot van een drankje is er volop gelegenheid voor een praatje en gezelligheid. Nieuwe bezoekers zijn van harte welkom.
URL:https://www.injipsingboertange.nl/evenement/ouderensoos-35/
CATEGORIES:Ouderensoos
END:VEVENT
BEGIN:VEVENT
DTSTART;TZID=Europe/Amsterdam:20260806T133000
DTEND;TZID=Europe/Amsterdam:20260806T160000
DTSTAMP:20260422T025047
CREATED:20260103T112003Z
LAST-MODIFIED:20260103T134654Z
UID:2795-1786023000-1786032000@www.injipsingboertange.nl
SUMMARY:Ouderensoos
DESCRIPTION:Locatie: Boer en Burger Bar De Iembarg\nTijd: elke donderdagmiddag van 13.30 tot 16.00 uur \nDe ouderensoos is een gezellige middag voor ontmoeting en samenzijn. Onder het genot van een drankje is er volop gelegenheid voor een praatje en gezelligheid. Nieuwe bezoekers zijn van harte welkom.
URL:https://www.injipsingboertange.nl/evenement/ouderensoos-36/
CATEGORIES:Ouderensoos
END:VEVENT
BEGIN:VEVENT
DTSTART;TZID=Europe/Amsterdam:20260813T133000
DTEND;TZID=Europe/Amsterdam:20260813T160000
DTSTAMP:20260422T025047
CREATED:20260103T112017Z
LAST-MODIFIED:20260103T134654Z
UID:2796-1786627800-1786636800@www.injipsingboertange.nl
SUMMARY:Ouderensoos
DESCRIPTION:Locatie: Boer en Burger Bar De Iembarg\nTijd: elke donderdagmiddag van 13.30 tot 16.00 uur \nDe ouderensoos is een gezellige middag voor ontmoeting en samenzijn. Onder het genot van een drankje is er volop gelegenheid voor een praatje en gezelligheid. Nieuwe bezoekers zijn van harte welkom.
URL:https://www.injipsingboertange.nl/evenement/ouderensoos-37/
CATEGORIES:Ouderensoos
END:VEVENT
BEGIN:VEVENT
DTSTART;TZID=Europe/Amsterdam:20260820T133000
DTEND;TZID=Europe/Amsterdam:20260820T160000
DTSTAMP:20260422T025047
CREATED:20260103T112017Z
LAST-MODIFIED:20260103T134654Z
UID:2797-1787232600-1787241600@www.injipsingboertange.nl
SUMMARY:Ouderensoos
DESCRIPTION:Locatie: Boer en Burger Bar De Iembarg\nTijd: elke donderdagmiddag van 13.30 tot 16.00 uur \nDe ouderensoos is een gezellige middag voor ontmoeting en samenzijn. Onder het genot van een drankje is er volop gelegenheid voor een praatje en gezelligheid. Nieuwe bezoekers zijn van harte welkom.
URL:https://www.injipsingboertange.nl/evenement/ouderensoos-38/
CATEGORIES:Ouderensoos
END:VEVENT
BEGIN:VEVENT
DTSTART;TZID=Europe/Amsterdam:20260827T133000
DTEND;TZID=Europe/Amsterdam:20260827T160000
DTSTAMP:20260422T025047
CREATED:20260103T112017Z
LAST-MODIFIED:20260103T134654Z
UID:2798-1787837400-1787846400@www.injipsingboertange.nl
SUMMARY:Ouderensoos
DESCRIPTION:Locatie: Boer en Burger Bar De Iembarg\nTijd: elke donderdagmiddag van 13.30 tot 16.00 uur \nDe ouderensoos is een gezellige middag voor ontmoeting en samenzijn. Onder het genot van een drankje is er volop gelegenheid voor een praatje en gezelligheid. Nieuwe bezoekers zijn van harte welkom.
URL:https://www.injipsingboertange.nl/evenement/ouderensoos-39/
CATEGORIES:Ouderensoos
END:VEVENT
BEGIN:VEVENT
DTSTART;TZID=Europe/Amsterdam:20260903T133000
DTEND;TZID=Europe/Amsterdam:20260903T160000
DTSTAMP:20260422T025047
CREATED:20260103T112017Z
LAST-MODIFIED:20260103T134654Z
UID:2799-1788442200-1788451200@www.injipsingboertange.nl
SUMMARY:Ouderensoos
DESCRIPTION:Locatie: Boer en Burger Bar De Iembarg\nTijd: elke donderdagmiddag van 13.30 tot 16.00 uur \nDe ouderensoos is een gezellige middag voor ontmoeting en samenzijn. Onder het genot van een drankje is er volop gelegenheid voor een praatje en gezelligheid. Nieuwe bezoekers zijn van harte welkom.
URL:https://www.injipsingboertange.nl/evenement/ouderensoos-40/
CATEGORIES:Ouderensoos
END:VEVENT
BEGIN:VEVENT
DTSTART;TZID=Europe/Amsterdam:20260910T133000
DTEND;TZID=Europe/Amsterdam:20260910T160000
DTSTAMP:20260422T025047
CREATED:20260103T112017Z
LAST-MODIFIED:20260103T134654Z
UID:2800-1789047000-1789056000@www.injipsingboertange.nl
SUMMARY:Ouderensoos
DESCRIPTION:Locatie: Boer en Burger Bar De Iembarg\nTijd: elke donderdagmiddag van 13.30 tot 16.00 uur \nDe ouderensoos is een gezellige middag voor ontmoeting en samenzijn. Onder het genot van een drankje is er volop gelegenheid voor een praatje en gezelligheid. Nieuwe bezoekers zijn van harte welkom.
URL:https://www.injipsingboertange.nl/evenement/ouderensoos-41/
CATEGORIES:Ouderensoos
END:VEVENT
BEGIN:VEVENT
DTSTART;TZID=Europe/Amsterdam:20260917T133000
DTEND;TZID=Europe/Amsterdam:20260917T160000
DTSTAMP:20260422T025047
CREATED:20260103T112032Z
LAST-MODIFIED:20260103T134654Z
UID:2801-1789651800-1789660800@www.injipsingboertange.nl
SUMMARY:Ouderensoos
DESCRIPTION:Locatie: Boer en Burger Bar De Iembarg\nTijd: elke donderdagmiddag van 13.30 tot 16.00 uur \nDe ouderensoos is een gezellige middag voor ontmoeting en samenzijn. Onder het genot van een drankje is er volop gelegenheid voor een praatje en gezelligheid. Nieuwe bezoekers zijn van harte welkom.
URL:https://www.injipsingboertange.nl/evenement/ouderensoos-42/
CATEGORIES:Ouderensoos
END:VEVENT
BEGIN:VEVENT
DTSTART;TZID=Europe/Amsterdam:20260924T133000
DTEND;TZID=Europe/Amsterdam:20260924T160000
DTSTAMP:20260422T025047
CREATED:20260103T112032Z
LAST-MODIFIED:20260103T134654Z
UID:2802-1790256600-1790265600@www.injipsingboertange.nl
SUMMARY:Ouderensoos
DESCRIPTION:Locatie: Boer en Burger Bar De Iembarg\nTijd: elke donderdagmiddag van 13.30 tot 16.00 uur \nDe ouderensoos is een gezellige middag voor ontmoeting en samenzijn. Onder het genot van een drankje is er volop gelegenheid voor een praatje en gezelligheid. Nieuwe bezoekers zijn van harte welkom.
URL:https://www.injipsingboertange.nl/evenement/ouderensoos-43/
CATEGORIES:Ouderensoos
END:VEVENT
BEGIN:VEVENT
DTSTART;TZID=Europe/Amsterdam:20261001T133000
DTEND;TZID=Europe/Amsterdam:20261001T160000
DTSTAMP:20260422T025047
CREATED:20260103T112032Z
LAST-MODIFIED:20260103T134654Z
UID:2803-1790861400-1790870400@www.injipsingboertange.nl
SUMMARY:Ouderensoos
DESCRIPTION:Locatie: Boer en Burger Bar De Iembarg\nTijd: elke donderdagmiddag van 13.30 tot 16.00 uur \nDe ouderensoos is een gezellige middag voor ontmoeting en samenzijn. Onder het genot van een drankje is er volop gelegenheid voor een praatje en gezelligheid. Nieuwe bezoekers zijn van harte welkom.
URL:https://www.injipsingboertange.nl/evenement/ouderensoos-44/
CATEGORIES:Ouderensoos
END:VEVENT
BEGIN:VEVENT
DTSTART;TZID=Europe/Amsterdam:20261008T133000
DTEND;TZID=Europe/Amsterdam:20261008T160000
DTSTAMP:20260422T025047
CREATED:20260103T112032Z
LAST-MODIFIED:20260103T134644Z
UID:2804-1791466200-1791475200@www.injipsingboertange.nl
SUMMARY:Ouderensoos
DESCRIPTION:Locatie: Boer en Burger Bar De Iembarg\nTijd: elke donderdagmiddag van 13.30 tot 16.00 uur \nDe ouderensoos is een gezellige middag voor ontmoeting en samenzijn. Onder het genot van een drankje is er volop gelegenheid voor een praatje en gezelligheid. Nieuwe bezoekers zijn van harte welkom.
URL:https://www.injipsingboertange.nl/evenement/ouderensoos-45/
CATEGORIES:Ouderensoos
END:VEVENT
BEGIN:VEVENT
DTSTART;TZID=Europe/Amsterdam:20261015T133000
DTEND;TZID=Europe/Amsterdam:20261015T160000
DTSTAMP:20260422T025047
CREATED:20260103T112032Z
LAST-MODIFIED:20260103T134644Z
UID:2805-1792071000-1792080000@www.injipsingboertange.nl
SUMMARY:Ouderensoos
DESCRIPTION:Locatie: Boer en Burger Bar De Iembarg\nTijd: elke donderdagmiddag van 13.30 tot 16.00 uur \nDe ouderensoos is een gezellige middag voor ontmoeting en samenzijn. Onder het genot van een drankje is er volop gelegenheid voor een praatje en gezelligheid. Nieuwe bezoekers zijn van harte welkom.
URL:https://www.injipsingboertange.nl/evenement/ouderensoos-46/
CATEGORIES:Ouderensoos
END:VEVENT
END:VCALENDAR