BEGIN:VCALENDAR
VERSION:2.0
PRODID:-//InJipsingboertange - ECPv6.15.20//NONSGML v1.0//EN
CALSCALE:GREGORIAN
METHOD:PUBLISH
X-ORIGINAL-URL:https://www.injipsingboertange.nl
X-WR-CALDESC:Evenementen voor InJipsingboertange
REFRESH-INTERVAL;VALUE=DURATION:PT1H
X-Robots-Tag:noindex
X-PUBLISHED-TTL:PT1H
BEGIN:VTIMEZONE
TZID:Europe/Amsterdam
BEGIN:DAYLIGHT
TZOFFSETFROM:+0100
TZOFFSETTO:+0200
TZNAME:CEST
DTSTART:20250330T010000
END:DAYLIGHT
BEGIN:STANDARD
TZOFFSETFROM:+0200
TZOFFSETTO:+0100
TZNAME:CET
DTSTART:20251026T010000
END:STANDARD
BEGIN:DAYLIGHT
TZOFFSETFROM:+0100
TZOFFSETTO:+0200
TZNAME:CEST
DTSTART:20260329T010000
END:DAYLIGHT
BEGIN:STANDARD
TZOFFSETFROM:+0200
TZOFFSETTO:+0100
TZNAME:CET
DTSTART:20261025T010000
END:STANDARD
BEGIN:DAYLIGHT
TZOFFSETFROM:+0100
TZOFFSETTO:+0200
TZNAME:CEST
DTSTART:20270328T010000
END:DAYLIGHT
BEGIN:STANDARD
TZOFFSETFROM:+0200
TZOFFSETTO:+0100
TZNAME:CET
DTSTART:20271031T010000
END:STANDARD
END:VTIMEZONE
BEGIN:VEVENT
DTSTART;TZID=Europe/Amsterdam:20260501T193000
DTEND;TZID=Europe/Amsterdam:20260501T210000
DTSTAMP:20260422T023106
CREATED:20260103T111452Z
LAST-MODIFIED:20260103T134451Z
UID:2703-1777663800-1777669200@www.injipsingboertange.nl
SUMMARY:Klaverrummiclub
DESCRIPTION:Locatie: Kantine JVV\nInloop: vanaf 19.30 uur\nStart: 20.00 uur \nTussen oktober en mei organiseert de klaverrummiclub gezellige rummikub- en klaverjasavonden. Leden\, donateurs en buurtbewoners zijn welkom. Gezelligheid en sportieve strijd staan centraal\, met elke avond kans op leuke prijzen. Ook beginners kunnen meedoen; hulp is altijd aanwezig. Aanmelden mag\, spontaan langskomen ook.
URL:https://www.injipsingboertange.nl/evenement/klaverrummiclub-19/
CATEGORIES:Klaverrummiclub
END:VEVENT
BEGIN:VEVENT
DTSTART;TZID=Europe/Amsterdam:20260515T193000
DTEND;TZID=Europe/Amsterdam:20260515T210000
DTSTAMP:20260422T023106
CREATED:20260103T111452Z
LAST-MODIFIED:20260103T134451Z
UID:2704-1778873400-1778878800@www.injipsingboertange.nl
SUMMARY:Klaverrummiclub
DESCRIPTION:Locatie: Kantine JVV\nInloop: vanaf 19.30 uur\nStart: 20.00 uur \nTussen oktober en mei organiseert de klaverrummiclub gezellige rummikub- en klaverjasavonden. Leden\, donateurs en buurtbewoners zijn welkom. Gezelligheid en sportieve strijd staan centraal\, met elke avond kans op leuke prijzen. Ook beginners kunnen meedoen; hulp is altijd aanwezig. Aanmelden mag\, spontaan langskomen ook.
URL:https://www.injipsingboertange.nl/evenement/klaverrummiclub-20/
CATEGORIES:Klaverrummiclub
END:VEVENT
END:VCALENDAR