BEGIN:VCALENDAR
VERSION:2.0
PRODID:-//InJipsingboertange - ECPv6.15.20//NONSGML v1.0//EN
CALSCALE:GREGORIAN
METHOD:PUBLISH
X-WR-CALNAME:InJipsingboertange
X-ORIGINAL-URL:https://www.injipsingboertange.nl
X-WR-CALDESC:Evenementen voor InJipsingboertange
REFRESH-INTERVAL;VALUE=DURATION:PT1H
X-Robots-Tag:noindex
X-PUBLISHED-TTL:PT1H
BEGIN:VTIMEZONE
TZID:Europe/Amsterdam
BEGIN:DAYLIGHT
TZOFFSETFROM:+0100
TZOFFSETTO:+0200
TZNAME:CEST
DTSTART:20250330T010000
END:DAYLIGHT
BEGIN:STANDARD
TZOFFSETFROM:+0200
TZOFFSETTO:+0100
TZNAME:CET
DTSTART:20251026T010000
END:STANDARD
BEGIN:DAYLIGHT
TZOFFSETFROM:+0100
TZOFFSETTO:+0200
TZNAME:CEST
DTSTART:20260329T010000
END:DAYLIGHT
BEGIN:STANDARD
TZOFFSETFROM:+0200
TZOFFSETTO:+0100
TZNAME:CET
DTSTART:20261025T010000
END:STANDARD
BEGIN:DAYLIGHT
TZOFFSETFROM:+0100
TZOFFSETTO:+0200
TZNAME:CEST
DTSTART:20270328T010000
END:DAYLIGHT
BEGIN:STANDARD
TZOFFSETFROM:+0200
TZOFFSETTO:+0100
TZNAME:CET
DTSTART:20271031T010000
END:STANDARD
END:VTIMEZONE
BEGIN:VEVENT
DTSTART;TZID=Europe/Amsterdam:20260417T193000
DTEND;TZID=Europe/Amsterdam:20260417T220000
DTSTAMP:20260422T002316
CREATED:20260103T111455Z
LAST-MODIFIED:20260212T111404Z
UID:2709-1776454200-1776463200@www.injipsingboertange.nl
SUMMARY:Thuiswedstrijd dartclub JVV
DESCRIPTION:Locatie: Kantine JVV\nInloop: vanaf 19.30 uur\nWedstrijd: vanaf 20.00 uur\nContactpersoon: Lars \nOp verschillende vrijdagen speelt dartclub JVV haar thuiswedstrijden in de kantine van JVV. Publiek is welkom om de wedstrijden bij te wonen en de darters aan te moedigen in een gezellige en sportieve sfeer.
URL:https://www.injipsingboertange.nl/evenement/thuiswedstrijd-dartclub-jvv-11/
CATEGORIES:Dartclub
END:VEVENT
END:VCALENDAR